BEGIN:VCALENDAR
VERSION:2.0
PRODID:-//destination.one//NONSGML destination.meta API//DE
X-WR-CALDESC:A calendar powered by destination.meta
X-WR-CALNAME:lueneburg Kalender via destination.meta
BEGIN:VEVENT
CATEGORIES:Comedy
DESCRIPTION:Vom Dorf in die Arena. Es ist der Stunt des Jahres. Comedy Newc
 omer Björn von Morgenstern hat einen Traum und wagt sich in Deutschlands g
 rößte Arena.\n\nAufhören zu arbeiten\, um es mit Comedy zu versuchen? Verr
 ückt. Dann nach einem Jahr auf Solotour zu gehen: Noch verrückter. DANN zu
  sagen: Das erste Solo wird in der Lanxess Arena gespielt: Das verrücktest
 e\, was jemals in Comedy-Deutschland gemacht wurde. Genau das macht Björn 
 von Morgenstern mit seinem ersten Programm KREISVERKEHRFEST. Direkt vom Do
 rf in die Arena nach Köln. Ergibt das Sinn? Wahrscheinlich nicht\, aber Co
 medy muss keinen Sinn ergeben\, sondern überraschen\, lustig und absurd se
 in. Diese Idee ist das alles und die Show dazu ist eine Einladung etwas Ei
 nmaliges zu erleben. Ein Newcomer auf der größten Bühne des Landes. Allein
 e\, aber mit der Garantie\, dass dieser Abend unvergesslich wird.\n\nNoch 
 nie zuvor hat ein Solo-Artist in der Comedyszene so früh diese Halle bespi
 elt. Björn von Morgenstern will es wagen. Björn ist aktuell der gefragtest
 e Newcomer der deutschen Comedyszene. Vor über 1 Jahr hat er seinen Job ge
 kündigt\, um Comedian zu werden. Seitdem ist viel passiert. Inzwischen hat
  Björn über 360 Mixshows gespielt\, ist Finalist des NightWash Talent Awar
 ds 2024\, Gewinner des Kölner ComedyClash 2025\, ist im aktuell berühmtest
 en Club Deutschlands - dem Downstairs Comedy Club von Felix Lobrecht - auf
 getreten und hat inzwischen sein eigenes Open Mic\, das er regelmäßig im a
 ngesagten Comedy Club Düsseldorf moderiert. Die ersten Shows seiner Soloto
 ur waren in kürzester Zeit restlos ausverkauft. Nun also Arena.\n\nIn sein
 em ersten Comedybühnenprogramm KREISVERKEHRFEST spricht Björn von Morgenst
 ern über die Jugend auf dem Dorf – zwischen Kreisverkehrfest und weiteren 
 kreativen Veranstaltungen. Außerdem darüber\, wie verrückt die große weite
  Welt ist\, wenn man die meisten Dinge erst deutlich später kennenlernt al
 s alle anderen. Kein Wunder also\, dass er auch seine Bundeswehrzeit eher 
 kreativ interpretiert hat. Ernst wird es selten\, dafür immer absurd & lus
 tig.\n\nDie Show ist die einzige Soloshow des Comedian in NRW in 2026 und 
 findet im Rahmen des COLOGNE COMEDY FESTIVALS statt.\n\nÜber Björn:\nAnfan
 g 2025 ist Björn von Morgenstern mit 2.987 Followern gestartet. Ein paar s
 einer Videos gingen auf Björns Instagram-Kanal viral\, wodurch er quasi üb
 er Nacht 30.000 Follower erzielt und sich eine neue treue Community aufgeb
 aut hat. Inzwischen folgen ihm über 100.000 Menschen.\n\nBjörn berichtet ü
 ber sein Leben und Missverständnisse\, die er erlebt hat. Er führt das Pub
 likum gerne in eine falsche Richtung\, um am Ende doch ganz anders abzubie
 gen. Bekannt ist der Wahl-Essener vor allem für sein süffisantes Grinsen –
  und am Schluss fühlt es sich an\, als wären wir alle längst befreundet.\n
 \nmehr Informationen unter http://pages.destination.one/de/lueneburg/strea
 ming/detail/Event/e_101149069/bj-rn-von-morgenstern-kreisverkehrfest
DTEND;TZID=Europe/Berlin:20261204T235900
DTSTAMP:20260424T083845Z
DTSTART;TZID=Europe/Berlin:20261204T200000
GEO:53.262840;10.371900
LOCATION:Kulturforum Lüneburg\, Gut Wienebüttel 1\, Lüneburg
SEQUENCE:0
SUMMARY:Björn von Morgenstern - Kreisverkehrfest
UID:e_101149069_iv0
URL:http://pages.destination.one/de/lueneburg/streaming/detail/Event/e_1011
 49069/bj-rn-von-morgenstern-kreisverkehrfest
END:VEVENT
BEGIN:VTIMEZONE
TZID:Europe/Berlin
X-LIC-LOCATION:Europe/Berlin
BEGIN:DAYLIGHT
DTSTART:19700329T020000
RRULE:FREQ=YEARLY;BYDAY=-1SU;BYMONTH=3
TZNAME:CEST
TZOFFSETFROM:+0100
TZOFFSETTO:+0200
END:DAYLIGHT
BEGIN:STANDARD
DTSTART:19701025T030000
RRULE:FREQ=YEARLY;BYDAY=-1SU;BYMONTH=10
TZNAME:CET
TZOFFSETFROM:+0200
TZOFFSETTO:+0100
END:STANDARD
END:VTIMEZONE
END:VCALENDAR
