BEGIN:VCALENDAR
VERSION:2.0
PRODID:-//destination.one//NONSGML destination.meta API//DE
X-WR-CALDESC:A calendar powered by destination.meta
X-WR-CALNAME:lueneburg Kalender via destination.meta
BEGIN:VEVENT
CATEGORIES:Musik sonstige
CATEGORIES:Konzert
DESCRIPTION:LoChorMotion\nWenn die Knusperhexe Hänsel und Gretel für Vertre
 ter einer lästigen\, gern zu unpassenden Zeiten klingelnden Glaubensgemein
 schaft hält und ihnen die Tür vor der Nase zuschlägt\, dann merkt man: Mis
 sverständnisse gibt es überall\, selbst im Zauberwald. Und zwar besonders 
 dann\, wenn ein künstlich intelligenter Spiegel im Hintergrund die Strippe
 n zieht. Dass in solchen Fällen einzig die Musik die Macht hat\, die versc
 hlungenen Erzählstränge zu entwirren\, beweist der Lüneburger Rock-und Pop
  Chor LoChorMotion bei seinem Konzert. Wer Lust auf einen märchenhaften Ko
 nzertabend hat\, sollte sich diesen Termin vormerken.\n\nmehr Informatione
 n unter http://pages.destination.one/de/lueneburg/streaming/detail/Event/e
 _101149083/lochormotion-abgebissen-missverst-ndnisse-aus-dem-zauberwald-ei
 n-chorkonzert
DTEND;TZID=Europe/Berlin:20260926T235900
DTSTAMP:20260420T124034Z
DTSTART;TZID=Europe/Berlin:20260926T200000
GEO:53.262840;10.371900
LOCATION:Kulturforum Lüneburg\, Gut Wienebüttel 1\, Lüneburg
SEQUENCE:0
SUMMARY:LoChorMotion - "abgebissen!" - "Missverständnisse aus dem Zauberwal
 d - ein Chorkonzert"
UID:e_101149083_iv0
URL:http://pages.destination.one/de/lueneburg/streaming/detail/Event/e_1011
 49083/lochormotion-abgebissen-missverst-ndnisse-aus-dem-zauberwald-ein-cho
 rkonzert
END:VEVENT
BEGIN:VTIMEZONE
TZID:Europe/Berlin
X-LIC-LOCATION:Europe/Berlin
BEGIN:DAYLIGHT
DTSTART:19700329T020000
RRULE:FREQ=YEARLY;BYDAY=-1SU;BYMONTH=3
TZNAME:CEST
TZOFFSETFROM:+0100
TZOFFSETTO:+0200
END:DAYLIGHT
BEGIN:STANDARD
DTSTART:19701025T030000
RRULE:FREQ=YEARLY;BYDAY=-1SU;BYMONTH=10
TZNAME:CET
TZOFFSETFROM:+0200
TZOFFSETTO:+0100
END:STANDARD
END:VTIMEZONE
END:VCALENDAR
