BEGIN:VCALENDAR
VERSION:2.0
PRODID:-//destination.one//NONSGML destination.meta API//DE
X-WR-CALDESC:A calendar powered by destination.meta
X-WR-CALNAME:lueneburg Kalender via destination.meta
BEGIN:VEVENT
CATEGORIES:Comedy
DESCRIPTION:NightWash Live\nComedy ist LIVE am lustigsten!\n\nDas mit dem D
 eutschen Comedypreis ausgezeichnete Stand-Up Comedy Format präsentiert sei
 t einem Vierteljahrhundert namhafte Comedians und Comediennes sowie die ne
 uesten Talente der Comedyszene aus dem Waschsalon und bundesweit mit über 
 150 Live-Terminen.\n\nHeutige Stars und Sternchen wie Felix Lobrecht\, Ozc
 an Cosar\, Chris Tall\, Tahnee\, Bastian Bielendorfer\, Enissa Amani\, Ola
 f Schubert\, Bülent Ceylan\, Torsten Sträter\, Markus Krebs\, Simon Stable
 in\, Maria Clara Groppler\, Osan Yaran\, Tutty Tran\, Nico Stank\, Negah A
 miri\, Carl Josef und viele mehr hatten im legendären Kult-Comedy-Waschsal
 on ihre ersten Bühnenauftritte.\n\nNightWash bringt die frischeste Comedy 
 angesagter Comedians und Newcomer\, überraschende Showeinlagen gepaart mit
  dem allerbesten Publikum auf die Bühne. Jede Show ein Unikat auf höchstem
  Niveau. Hier bleibt garantiert kein Auge trocken! Comedy der Extraklasse!
 \n\nNightWash Live - Comedy at its best!\n\nmehr Informationen unter http:
 //pages.destination.one/de/lueneburg/streaming/detail/Event/e_101149089/ni
 ghtwash-live-tour-2026
DTEND;TZID=Europe/Berlin:20261117T235900
DTSTAMP:20260421T081406Z
DTSTART;TZID=Europe/Berlin:20261117T200000
GEO:53.262840;10.371900
LOCATION:Kulturforum Lüneburg\, Gut Wienebüttel 1\, Lüneburg
SEQUENCE:0
SUMMARY:NightWash Live - Tour 2026
UID:e_101149089_iv0
URL:http://pages.destination.one/de/lueneburg/streaming/detail/Event/e_1011
 49089/nightwash-live-tour-2026
END:VEVENT
BEGIN:VTIMEZONE
TZID:Europe/Berlin
X-LIC-LOCATION:Europe/Berlin
BEGIN:DAYLIGHT
DTSTART:19700329T020000
RRULE:FREQ=YEARLY;BYDAY=-1SU;BYMONTH=3
TZNAME:CEST
TZOFFSETFROM:+0100
TZOFFSETTO:+0200
END:DAYLIGHT
BEGIN:STANDARD
DTSTART:19701025T030000
RRULE:FREQ=YEARLY;BYDAY=-1SU;BYMONTH=10
TZNAME:CET
TZOFFSETFROM:+0200
TZOFFSETTO:+0100
END:STANDARD
END:VTIMEZONE
END:VCALENDAR
