BEGIN:VCALENDAR
VERSION:2.0
PRODID:-//destination.one//NONSGML destination.meta API//DE
X-WR-CALDESC:A calendar powered by destination.meta
X-WR-CALNAME:lueneburg Kalender via destination.meta
BEGIN:VEVENT
CATEGORIES:Comedy
DESCRIPTION:BOOMERLAND – das aktuelle Programm von Lars Reichow\n\nBoomer –
  das sind keine seltenen Tiere oder vom Aussterben bedrohte Kuscheltiere\,
  sondern Millionen von Menschen\, die zwischen 1950 und 1970 geboren sind.
  Sie lachen gerne\, gehen oft und gern ins Kabarett\, sind zukunftszugewan
 dt und genießen verantwortungsvoll das Leben.\n\nReichow will dieser Gener
 ation ein Denkmal setzen. Und gleichzeitig will er eine Brücke bauen bis i
 n die Generation der Millennials\, der Generation Z und Alpha. Boomer welc
 ome – Millennials beloved !!!\n\nmehr Informationen unter http://pages.des
 tination.one/de/lueneburg/streaming/detail/Event/e_101152521/lars-reichow-
 boomerland
DTEND;TZID=Europe/Berlin:20261122T235900
DTSTAMP:20260420T084601Z
DTSTART;TZID=Europe/Berlin:20261122T190000
GEO:53.262840;10.371900
LOCATION:Kulturforum Lüneburg\, Gut Wienebüttel 1\, Lüneburg
SEQUENCE:0
SUMMARY:Lars Reichow - Boomerland
UID:e_101152521_iv0
URL:http://pages.destination.one/de/lueneburg/streaming/detail/Event/e_1011
 52521/lars-reichow-boomerland
END:VEVENT
BEGIN:VTIMEZONE
TZID:Europe/Berlin
X-LIC-LOCATION:Europe/Berlin
BEGIN:DAYLIGHT
DTSTART:19700329T020000
RRULE:FREQ=YEARLY;BYDAY=-1SU;BYMONTH=3
TZNAME:CEST
TZOFFSETFROM:+0100
TZOFFSETTO:+0200
END:DAYLIGHT
BEGIN:STANDARD
DTSTART:19701025T030000
RRULE:FREQ=YEARLY;BYDAY=-1SU;BYMONTH=10
TZNAME:CET
TZOFFSETFROM:+0200
TZOFFSETTO:+0100
END:STANDARD
END:VTIMEZONE
END:VCALENDAR
