BEGIN:VCALENDAR
VERSION:2.0
PRODID:-//destination.one//NONSGML destination.meta API//DE
X-WR-CALDESC:A calendar powered by destination.meta
X-WR-CALNAME:lueneburg Kalender via destination.meta
BEGIN:VEVENT
CATEGORIES:Musik sonstige
CATEGORIES:Konzert
DESCRIPTION:David Bowies Kunst hat Popmusik in hohe Kunst verwandelt. Mit „
 David Bowie Symphony“ feiert ein \nambitioniertes Konzertprojekt die Ikone
  auf große\, zeitgemäße Weise: Orchesterklang und Rockband \nverschmelzen 
 zu einer energiegeladenen Live Erfahrung\, die das Werk des Visionärs neu 
 hör und \nfühlbar macht – respektvoll\, detailverliebt und mit großer emot
 ionaler Tiefe.\n\nDie Produktion ist die symphonische Erweiterung von „Mr.
  Bowie – The Reality Show“ des Sängers \nMilan Devinne. Bekannt für seine 
 außergewöhnliche Stimmbandbreite und seine authentische \nAnnäherung an Bo
 wies musikalisches Universum\, verleiht Devinne Klassikern wie „Space Oddi
 ty“\, \n„Heroes“\, „Life on Mars?“ oder „Let’s Dance“ neue Strahlkraft. Di
 e Arrangements betonen die \ndramaturgische Kraft der Songs\, ohne deren D
 NA zu verändern – eine Hommage mit Herz\, Präzision \nund großem Respekt.\
 n\nInternationales Team für einen Weltklasse Sound\nFür die musikalische L
 eitung zeichnet der italienische Dirigent und Arrangeur Andrea Bonaldo\nve
 rantwortlich\, der Orchester und Rockband zu einer Einheit formt. An der G
 itarre steht Peter Pohl\, \ndessen Arbeit mit Falco\, Opus und Supergau ih
 n zu einem der versiertesten Gitarristen der \neuropäischen Rockszene mach
 t. Den audiophilen Rahmen liefert Helmut Scheiber\, österreichischer \nTon
 meister mit Referenzen von Status Quo über Boney M bis Chris Norman – Gara
 nt für \ntransparente\, druckvolle Klangästhetik bis in die letzte Reihe.\
 n\nExklusive Stimmen aus Bowies Umfeld\nEin besonderes Element des Abends 
 ist eine kurze Dokumentation vor Showbeginn. Darin zu sehen: \nRichard You
 ng (legendärer britischer Fotograf von David Bowie\, Freddie Mercury\, The
  Rolling Stones \nund Mitgliedern der königlichen Familie)\, Thierry Amsal
 lem (CEO des Montreux Jazz Festivals und \nenger Freund Bowies) sowie Pete
 r Freestone (langjähriger persönlicher Assistent von Freddie \nMercury und
  Mitarbeiter David Bowies). Ihre Erinnerungen eröffnen eine selten intime 
 Perspektive \nauf Bowies Welt und rahmen den Konzertabend inhaltlich ein.\
 n\nOffiziell unterstützt\nDas Projekt wird offiziell von Hermjo Klein unte
 rstützt\, der als europäischer Tourmanager u. a. für \nDavid Bowie\, The R
 olling Stones\, Queen\, Jimi Hendrix und Janis Joplin tätig war:\n„Milan D
 evinne kann mit seiner einzigartigen Stimmfarbe und Qualität den archetypi
 schen Sound \nvon Bowie nachbilden und selbst die treuesten Fans in seinen
  Bann ziehen.“\n\nGlobale Perspektive\nMilan Devinne bringt umfangreiche i
 nternationale Erfahrung mit – von Welttourneen in den USA\, \nMexiko und S
 üdafrika bis zu Solo Auftritten in Japan. Diese weltläufige Perspektive pr
 ägt die \nkünstlerische Ausrichtung der Show\, die – ganz im Sinne Bowies 
 – kulturelle Grenzen überwindet.\n\nÜber „David Bowie Symphony“\nEine pack
 ende Live Produktion\, die die größten Bowie Songs mit orchestraler Strahl
 kraft neu \ninterpretiert. Mit internationalem Ensemble\, erstklassiger To
 ntechnik und einer exklusiven Vorab\nDoku verbindet die Show Emotion\, Ene
 rgie und künstlerische Detailtreue – ein lebendiges Fest zum \nVermächtnis
  eines der prägendsten Künstler der Popgeschichte.\n\nwww.resetproduction.
 de\n\nmehr Informationen unter http://pages.destination.one/de/lueneburg/s
 treaming/detail/Event/e_101152933/david-bowie-symphony-the-celebration-con
 cert-performed-by-milan-devinne-the-thin-white-duke-orechstra
DTEND;TZID=Europe/Berlin:20261128T235900
DTSTAMP:20260420T135148Z
DTSTART;TZID=Europe/Berlin:20261128T200000
GEO:53.228442;10.404695
LOCATION:Leuphana Universität (Libeskind Auditorium)\, Universitätsallee 1\
 , Lüneburg
SEQUENCE:0
SUMMARY:David Bowie Symphony – The Celebration Concert - performed by MILAN
  DEVINNE & THE THIN WHITE DUKE ORECHSTRA
UID:e_101152933_iv0
URL:http://pages.destination.one/de/lueneburg/streaming/detail/Event/e_1011
 52933/david-bowie-symphony-the-celebration-concert-performed-by-milan-devi
 nne-the-thin-white-duke-orechstra
END:VEVENT
BEGIN:VTIMEZONE
TZID:Europe/Berlin
X-LIC-LOCATION:Europe/Berlin
BEGIN:DAYLIGHT
DTSTART:19700329T020000
RRULE:FREQ=YEARLY;BYDAY=-1SU;BYMONTH=3
TZNAME:CEST
TZOFFSETFROM:+0100
TZOFFSETTO:+0200
END:DAYLIGHT
BEGIN:STANDARD
DTSTART:19701025T030000
RRULE:FREQ=YEARLY;BYDAY=-1SU;BYMONTH=10
TZNAME:CET
TZOFFSETFROM:+0200
TZOFFSETTO:+0100
END:STANDARD
END:VTIMEZONE
END:VCALENDAR
