BEGIN:VCALENDAR
VERSION:2.0
PRODID:-//destination.one//NONSGML destination.meta API//DE
X-WR-CALDESC:A calendar powered by destination.meta
X-WR-CALNAME:lueneburg Kalender via destination.meta
BEGIN:VEVENT
CATEGORIES:Kabarett
DESCRIPTION:Ich war mal wer\n\nEin harmloser Kinderwitz hat Lisa Eckhart um
  Haus und Hof\, Familie und Fans gebracht. Sie hat nichts mehr zu verliere
 n. Nicht einmal den Verstand. Jetzt kann sie mehr denn je tun und sagen\, 
 was sie will. Sie muss es sogar. Denn auch ein schlechter Ruf verpflichtet
 .\n\nmehr Informationen unter http://pages.destination.one/de/lueneburg/st
 reaming/detail/Event/e_101154125/lisa-eckhart-ich-war-mal-wer
DTEND;TZID=Europe/Berlin:20270116T235900
DTSTAMP:20260421T081214Z
DTSTART;TZID=Europe/Berlin:20270116T200000
GEO:53.272355;10.423034
LOCATION:LKH Arena\, Lüner Rennbahn 5\, Lüneburg
SEQUENCE:0
SUMMARY:Lisa Eckhart - Ich war mal wer
UID:e_101154125_iv0
URL:http://pages.destination.one/de/lueneburg/streaming/detail/Event/e_1011
 54125/lisa-eckhart-ich-war-mal-wer
END:VEVENT
BEGIN:VTIMEZONE
TZID:Europe/Berlin
X-LIC-LOCATION:Europe/Berlin
BEGIN:DAYLIGHT
DTSTART:19700329T020000
RRULE:FREQ=YEARLY;BYDAY=-1SU;BYMONTH=3
TZNAME:CEST
TZOFFSETFROM:+0100
TZOFFSETTO:+0200
END:DAYLIGHT
BEGIN:STANDARD
DTSTART:19701025T030000
RRULE:FREQ=YEARLY;BYDAY=-1SU;BYMONTH=10
TZNAME:CET
TZOFFSETFROM:+0200
TZOFFSETTO:+0100
END:STANDARD
END:VTIMEZONE
END:VCALENDAR
