BEGIN:VCALENDAR
VERSION:2.0
PRODID:-//destination.one//NONSGML destination.meta API//DE
X-WR-CALDESC:A calendar powered by destination.meta
X-WR-CALNAME:lueneburg Kalender via destination.meta
BEGIN:VEVENT
CATEGORIES:Vortrag\, Diskussion\, Lesung sonstige
DESCRIPTION:Vortrag von Dr. Thomas Lux / Lüneburg\nGeorg Winter war 1946 bi
 s 1952 Stadtarchivar in Lüneburg. Danach übernahm er als Gründungsdirektor
  des neuen Bundesarchivs in Koblenz eine bedeutende Stelle. Es soll gezeig
 t werden\, wie Winter nach Lüneburg kam und seine Zeit hier nutzte: Eine Z
 eit der Neuorientierung\, des Beschweigens der Verwicklung in die Untaten 
 des NS-Regimes\, aber auch als Zeit der Alltagsarbeit eines Stadtarchivars
  einer kulturell aktiven Kommune.\nEintritt: 4 Euro (für Mitglieder des Mu
 seumsvereins kostenfrei)\nOrt: Marcus-Heinemann-Saal im Museum Lüneburg\nD
 ies ist der Nachholtermin für den ausgefallenen Vortrag am 29. Oktober 202
 5.\n\nmehr Informationen unter http://pages.destination.one/de/lueneburg/s
 treaming/detail/Event/e_101154199/vortrag-georg-winter-vom-stadtarchiv-in-
 l-neburg-zum-bundesarchiv-in-koblenz
DTEND;TZID=Europe/Berlin:20260513T200000
DTSTAMP:20260422T090513Z
DTSTART;TZID=Europe/Berlin:20260513T183000
GEO:53.247066;10.415862
LOCATION:Museum Lüneburg\, Willy-Brandt-Straße 1\, Lüneburg
SEQUENCE:0
SUMMARY:Vortrag: „Georg Winter. Vom Stadtarchiv in Lüneburg zum Bundesarchi
 v in Koblenz."
UID:e_101154199_iv0
URL:http://pages.destination.one/de/lueneburg/streaming/detail/Event/e_1011
 54199/vortrag-georg-winter-vom-stadtarchiv-in-l-neburg-zum-bundesarchiv-in
 -koblenz
END:VEVENT
BEGIN:VTIMEZONE
TZID:Europe/Berlin
X-LIC-LOCATION:Europe/Berlin
BEGIN:DAYLIGHT
DTSTART:19700329T020000
RRULE:FREQ=YEARLY;BYDAY=-1SU;BYMONTH=3
TZNAME:CEST
TZOFFSETFROM:+0100
TZOFFSETTO:+0200
END:DAYLIGHT
BEGIN:STANDARD
DTSTART:19701025T030000
RRULE:FREQ=YEARLY;BYDAY=-1SU;BYMONTH=10
TZNAME:CET
TZOFFSETFROM:+0200
TZOFFSETTO:+0100
END:STANDARD
END:VTIMEZONE
END:VCALENDAR
