BEGIN:VCALENDAR
VERSION:2.0
PRODID:-//destination.one//NONSGML destination.meta API//DE
X-WR-CALDESC:A calendar powered by destination.meta
X-WR-CALNAME:lueneburg Kalender via destination.meta
BEGIN:VEVENT
CATEGORIES:Seminar/Kurs/Workshop sonstige
DESCRIPTION:Yoga-Wochenend-Präventionsretreat mit Eva & Eric\nGönn dir eine
  erholsame Auszeit vom Alltag!\nTauche ein in unser Yoga-Wochenend-Retreat
  in der idyllischen Lüneburger Heide und starte gestärkt und voller neuer 
 Energie in den Sommer.\nWas dich erwartet:\n8 intensive Yoga-Einheiten (of
 fen für alle Level!) und Morgenmeditationen\, um deine Stressresistenz aus
 zubauen und Körper und Geist fit zu halten.Entspannung pur im großzügigen 
 SPA-Bereich des Ringhotels Sellhorn (Pool\, Saunen\, Dampfbad).Köstliche V
 erpflegung: Reichhaltiges Sekt- und Langschläfer-Frühstück sowie köstliche
  4-Gang-Abendessen.Tolle Gemeinschaft in einer herzlichen Gruppe Gleichges
 innter.Wann & Wo:\nDatum: Freitag\, 5. Juni – Sonntag\, 7. Juni 2026Ort: R
 inghotel Sellhorn\, Hanstedt (Nähe Hamburg)Leitung: Eric vom MattenplatzSi
 chere dir jetzt deinen Platz für dieses inspirierende und erholsame Wochen
 ende! (Weitere Details und Anmeldung findest du auf unserer Website.)\n\nm
 ehr Informationen unter http://pages.destination.one/de/lueneburg/streamin
 g/detail/Event/e_101155054/yoga-wochenend-pr-ventionsretreat-mit-eva-eric
DTEND;TZID=Europe/Berlin:20260605T235900
DTSTAMP:20260422T084139Z
DTSTART;TZID=Europe/Berlin:20260605T170000
GEO:53.258430;10.019090
LOCATION:Ringhotel Sellhorn\, Winsener Straße 23\, Hanstedt
SEQUENCE:0
SUMMARY:Yoga-Wochenend-Präventionsretreat mit Eva & Eric
UID:e_101155054_iv0
URL:http://pages.destination.one/de/lueneburg/streaming/detail/Event/e_1011
 55054/yoga-wochenend-pr-ventionsretreat-mit-eva-eric
END:VEVENT
BEGIN:VTIMEZONE
TZID:Europe/Berlin
X-LIC-LOCATION:Europe/Berlin
BEGIN:DAYLIGHT
DTSTART:19700329T020000
RRULE:FREQ=YEARLY;BYDAY=-1SU;BYMONTH=3
TZNAME:CEST
TZOFFSETFROM:+0100
TZOFFSETTO:+0200
END:DAYLIGHT
BEGIN:STANDARD
DTSTART:19701025T030000
RRULE:FREQ=YEARLY;BYDAY=-1SU;BYMONTH=10
TZNAME:CET
TZOFFSETFROM:+0200
TZOFFSETTO:+0100
END:STANDARD
END:VTIMEZONE
END:VCALENDAR
