BEGIN:VCALENDAR
VERSION:2.0
PRODID:-//destination.one//NONSGML destination.meta API//DE
X-WR-CALDESC:A calendar powered by destination.meta
X-WR-CALNAME:lueneburg Kalender via destination.meta
BEGIN:VEVENT
CATEGORIES:Konzert
DESCRIPTION:anders mit New Voices Popchor\nWir schenken uns nix - Programmt
 ext Anders stehen für zeitgemäßen A-cappella-Pop\, kluge deutschsprachige 
 Texte und Melodien\, die im Ohr bleiben – und das auch an Weihnachten. In 
 ihrem Programm „Wir schenken uns nix“ widmen sich die fünf Freiburger den 
 schönsten\, schrägsten und berührendsten Seiten der kalten Jahreszeit. Zwi
 schen Kerzenschein und Kaufrausch\, Zimtstern und Zuckerguss\, Besinnlichk
 eit und Festtagswahnsinn erzählen sie Geschichten von all dem\, was dieses
  Fest so wunderbar und manchmal auch so wunderbar anstrengend macht. Mit e
 iner Mischung aus selbstgeschriebenen Liedern voller Witz und Wehmut\, ver
 trauten Weihnachtsklängen und feinen Pop-Jazz-Arrangements werden Anders z
 u charmanten Beobachtern des Dramas\, das sich Jahr für Jahr zwischen Lame
 tta\, Lebkuchen und Lichterglanz abspielt. Ob eingefleischter Weihnachtsfa
 n oder erklärter Festtagsverweigerer – „Wir schenken uns nix“ ist ein musi
 kalisches Geschenk\, das garantiert niemand unberührt lässt\n\nmehr Inform
 ationen unter http://pages.destination.one/de/lueneburg/streaming/detail/E
 vent/e_101156606/anders-mit-chor-wirschenkenunsnix
DTEND;TZID=Europe/Berlin:20261219T235900
DTSTAMP:20260421T075943Z
DTSTART;TZID=Europe/Berlin:20261219T200000
GEO:53.262840;10.371900
LOCATION:Kulturforum Lüneburg\, Gut Wienebüttel 1\, Lüneburg
SEQUENCE:0
SUMMARY:anders mit Chor - Wirschenkenunsnix
UID:e_101156606_iv0
URL:http://pages.destination.one/de/lueneburg/streaming/detail/Event/e_1011
 56606/anders-mit-chor-wirschenkenunsnix
END:VEVENT
BEGIN:VTIMEZONE
TZID:Europe/Berlin
X-LIC-LOCATION:Europe/Berlin
BEGIN:DAYLIGHT
DTSTART:19700329T020000
RRULE:FREQ=YEARLY;BYDAY=-1SU;BYMONTH=3
TZNAME:CEST
TZOFFSETFROM:+0100
TZOFFSETTO:+0200
END:DAYLIGHT
BEGIN:STANDARD
DTSTART:19701025T030000
RRULE:FREQ=YEARLY;BYDAY=-1SU;BYMONTH=10
TZNAME:CET
TZOFFSETFROM:+0200
TZOFFSETTO:+0100
END:STANDARD
END:VTIMEZONE
END:VCALENDAR
