BEGIN:VCALENDAR
VERSION:2.0
PRODID:-//destination.one//NONSGML destination.meta API//DE
X-WR-CALDESC:A calendar powered by destination.meta
X-WR-CALNAME:lueneburg Kalender via destination.meta
BEGIN:VEVENT
CATEGORIES:Musik sonstige
CATEGORIES:Konzert
DESCRIPTION:dIRE sTRATS\nEin Sound\, der um die Welt ging!\nErleben Sie die
  meistgebuchte Dire Straits-Tribute-Band Europas live!\nIm Vordergrund ste
 ht der Sound der um die Welt ging\, mit einer Gitarre die keiner von uns j
 e vergessen wird. Wolfgang Uhlich wird dabei von vielen fachkundigen Fans 
 im In- und Ausland als bester Mark Knopfler Imitator angesehen.\nDie Band 
 hat sich mit 800 Konzerten fest in der deutschen Musiklandschaft etabliert
 . Höhepunkt ist der Sieg des bundesweiten Tribute-Contests in Koblenz\, mi
 t 100 teilnehmenden Tributebands. Durch enorme Wandlungsfähigkeit wird ein
  Live-Programm für alte Kenner und neue Fans geschaffen. Die Klassiker „Wa
 lk of Life“\, „Sultans of swing“ und „Brothers in Arms“ sind fester Bestan
 dteil des im Detail ausgearbeiteten Programms\, welches zu 100% live ist! 
 Keine Hilfsmittel\, keine Tricks - mit Individualität\, musikalischem Fein
 gefühl\, präzisem Solospiel und dem richtigen "Draht" zum Publikum wurden 
 in den letzten Jahren die Bühnen und die Herzen der Fans im Sturm erobert.
 \n\n\nBesetzung:\n• Wolfgang Uhlich: Gesang & Leadgitarre\n• Matthias Stra
 ss: Gitarre\n• Thomas Fiebig: Bass\n• Tobias Blattmann: Keyboards\n• Olaf 
 Satzer: Schlagzeug\n• Jens Gernhoff: Percussion\n\n\nWozu eigentlich noch 
 lange schreiben? Musik muss man erleben. Und seit 2004 sind die dIRE sTRAT
 S die erste Adresse\, um die Musik der 1992 aufgelösten Dire Straits wiede
 r live zu erleben! Wer diese einzigartige Band bei einer Live-Performance 
 mit ihrer Musik hautnah erleben möchte\, der sollte sich eines ihrer Konze
 rte nicht entgehen lassen. Einen Vorgeschmack gibt es unter https://www.di
 restrats.com.\n\nmehr Informationen unter http://pages.destination.one/de/
 lueneburg/streaming/detail/Event/e_101156612/dire-strats-tribute-to-dire-s
 traits
DTEND;TZID=Europe/Berlin:20261211T235900
DTSTAMP:20260421T091111Z
DTSTART;TZID=Europe/Berlin:20261211T200000
GEO:53.262840;10.371900
LOCATION:Kulturforum Lüneburg\, Gut Wienebüttel 1\, Lüneburg
SEQUENCE:0
SUMMARY:dIRE sTRATS - Tribute to Dire Straits
UID:e_101156612_iv0
URL:http://pages.destination.one/de/lueneburg/streaming/detail/Event/e_1011
 56612/dire-strats-tribute-to-dire-straits
END:VEVENT
BEGIN:VTIMEZONE
TZID:Europe/Berlin
X-LIC-LOCATION:Europe/Berlin
BEGIN:DAYLIGHT
DTSTART:19700329T020000
RRULE:FREQ=YEARLY;BYDAY=-1SU;BYMONTH=3
TZNAME:CEST
TZOFFSETFROM:+0100
TZOFFSETTO:+0200
END:DAYLIGHT
BEGIN:STANDARD
DTSTART:19701025T030000
RRULE:FREQ=YEARLY;BYDAY=-1SU;BYMONTH=10
TZNAME:CET
TZOFFSETFROM:+0200
TZOFFSETTO:+0100
END:STANDARD
END:VTIMEZONE
END:VCALENDAR
