BEGIN:VCALENDAR
VERSION:2.0
PRODID:-//destination.one//NONSGML destination.meta API//DE
X-WR-CALDESC:A calendar powered by destination.meta
X-WR-CALNAME:lueneburg Kalender via destination.meta
BEGIN:VEVENT
CATEGORIES:Musik sonstige
CATEGORIES:Konzert
DESCRIPTION:Tingvall Trio\nSeit mehr als zwei Dekaden ist das Tingvall Trio
  ein zuverlässiger Garant für packenden Piano Trio Jazz mit griffigen Melo
 dien und kraftvollen Rhythmen. Achtmal wurden ihre Produktionen mit dem Ja
 zz Award in Gold und einmal in Platin ausgezeichnet Ihr aktuelles Album „P
 ax“ ist wieder erfolgreich in den Pop Charts und erreicht Topplatzierungen
  in den Jazz Charts. Mit ausverkaufte Konzerten in ganz Europa haben sich 
 die drei Wahl-Hamburger eine besondere Fangemeinde erspielt.\n\nLine Up:\n
 \nMartin Tingvall - Piano\n\nOmar Rodriguez Calvo - Bass\n\nJürgen Spiegel
  - Schlagzeug\n\nDabei ist der Album - Titel „Pax“ ganz überlegt gewählt\,
  Martin Tingvall erläutert:„ In einer Welt voller Unruhe und zunehmender g
 esellschaftlicher Polarisierung war es mir ein besonderes Anliegen\, mit u
 nserer Musik ein Zeichen für den Frieden zu setzen. Bereits mit unserem Al
 bum „Birds“  haben wir versucht\, die beunruhigenden Entwicklungen unserer
  Zeit musikalisch zu reflektieren. Seitdem hat sich vieles auf der Welt we
 iter zum Negativen verändert. Als Musiker möchte ich dem nicht schweigend 
 zusehen. PAX soll zum Nachdenken anregen\, zur Ruhe einladen – und ein kla
 res Zeichen für den Frieden sein.\n\nmehr Informationen unter http://pages
 .destination.one/de/lueneburg/streaming/detail/Event/e_101156623/tingvall-
 trio-pax
DTEND;TZID=Europe/Berlin:20261029T235900
DTSTAMP:20260421T091043Z
DTSTART;TZID=Europe/Berlin:20261029T200000
GEO:53.262840;10.371900
LOCATION:Kulturforum Lüneburg\, Gut Wienebüttel 1\, Lüneburg
SEQUENCE:0
SUMMARY:Tingvall Trio - Pax
UID:e_101156623_iv0
URL:http://pages.destination.one/de/lueneburg/streaming/detail/Event/e_1011
 56623/tingvall-trio-pax
END:VEVENT
BEGIN:VTIMEZONE
TZID:Europe/Berlin
X-LIC-LOCATION:Europe/Berlin
BEGIN:DAYLIGHT
DTSTART:19700329T020000
RRULE:FREQ=YEARLY;BYDAY=-1SU;BYMONTH=3
TZNAME:CEST
TZOFFSETFROM:+0100
TZOFFSETTO:+0200
END:DAYLIGHT
BEGIN:STANDARD
DTSTART:19701025T030000
RRULE:FREQ=YEARLY;BYDAY=-1SU;BYMONTH=10
TZNAME:CET
TZOFFSETFROM:+0200
TZOFFSETTO:+0100
END:STANDARD
END:VTIMEZONE
END:VCALENDAR
