BEGIN:VCALENDAR
VERSION:2.0
PRODID:-//destination.one//NONSGML destination.meta API//DE
X-WR-CALDESC:A calendar powered by destination.meta
X-WR-CALNAME:lueneburg Kalender via destination.meta
BEGIN:VEVENT
CATEGORIES:Comedy
DESCRIPTION:Lisa Feller\nEs gibt sie noch\, die guten Dinge: Comedy\, die u
 nglaublich lustig ist. Ein Bühnenprogramm voller Gags\nund wunderbar schrä
 gen Alltags-Knallern! Charmant serviert\, spritzig und pointiert. Vielleic
 ht brauchen\nwir deswegen mehr Frauen wie Lisa Feller\, die nicht nur im T
 V unbestritten zu den besten Comedians\nDeutschlands gehört. Mit den Erfol
 gsprogrammen „Guter Sex ist teuer!“ und „Dirty Talk“ ging es für die\nFell
 er an die Spitze des Comedy-Olymps\, mit ihrem neuen Programm „Schön für d
 ich“ demonstriert die\nFrau mit dem Herz auf dem richtigen Fleck und der s
 charfen Pointe auf der Zunge souverän\, wie fresh\nund lustig Comedy ohne 
 Zeigefinger-Plattitüden sein kann.\nDas Leben\, die menschlichen Schwächen
 \, der ganz normale Alltagwahnsinn – das ist und bleibt der\nunerschöpflic
 he Kosmos\, aus dem die Münsteranerin auch in ihrem neuen Programm eindruc
 ksvoll\nbeweist\, dass richtig gute Comedy immer noch viel mit Lachen zu t
 un hat. Und das ist am Ende nicht\nnur „Schön für Dich!“\, sondern für uns
  alle!\nLISA FELLER ist Stand-Up-Komikerin\, Moderatorin\, Podcasterin und
  Schauspielerin. Bekannt wurde\nLisa durch die legendäre Comedyserie „Schi
 llerstraße“ und die KIKA-Serie „Schloss Einstein“.\nLisa Feller moderiert 
 regelmäßig in der ARD die Sendung „Ladies Night“ und ist gern gesehen bei 
 den\n„WDR Mitternachtsspitzen“\, der „SWR Spätschicht“\, „Genial daneben“ 
 oder „Die besten Comedians\nDeutschlands“. Außerdem liebt Lisa Quiz-Sendun
 gen und nach etlichen Auftritten bei „Wer weiß denn\nsowas?“\, „Gefragt ge
 jagt“\, „QuizDuell Olymp“ u.a. wurde sie 2022 in der RTL-Quizshow zum „Unf
 assbar\nschlausten Menschen der Welt“ gekürt. Privat engagiert sie sich fü
 r den „Frauenhaus und Beratung\ne.V.“ in Münster und unterstützt die Arbei
 t des Vereins Roter Keil.\n\nmehr Informationen unter http://pages.destina
 tion.one/de/lueneburg/streaming/detail/Event/e_101158463/lisa-feller-sch-n
 -f-r-dich
DTEND;TZID=Europe/Berlin:20261124T235900
DTSTAMP:20260421T080709Z
DTSTART;TZID=Europe/Berlin:20261124T200000
GEO:53.262840;10.371900
LOCATION:Kulturforum Lüneburg\, Gut Wienebüttel 1\, Lüneburg
SEQUENCE:0
SUMMARY:Lisa Feller - „Schön für dich!“
UID:e_101158463_iv0
URL:http://pages.destination.one/de/lueneburg/streaming/detail/Event/e_1011
 58463/lisa-feller-sch-n-f-r-dich
END:VEVENT
BEGIN:VTIMEZONE
TZID:Europe/Berlin
X-LIC-LOCATION:Europe/Berlin
BEGIN:DAYLIGHT
DTSTART:19700329T020000
RRULE:FREQ=YEARLY;BYDAY=-1SU;BYMONTH=3
TZNAME:CEST
TZOFFSETFROM:+0100
TZOFFSETTO:+0200
END:DAYLIGHT
BEGIN:STANDARD
DTSTART:19701025T030000
RRULE:FREQ=YEARLY;BYDAY=-1SU;BYMONTH=10
TZNAME:CET
TZOFFSETFROM:+0200
TZOFFSETTO:+0100
END:STANDARD
END:VTIMEZONE
END:VCALENDAR
