BEGIN:VCALENDAR
VERSION:2.0
PRODID:-//destination.one//NONSGML destination.meta API//DE
X-WR-CALDESC:A calendar powered by destination.meta
X-WR-CALNAME:lueneburg Kalender via destination.meta
BEGIN:VEVENT
CATEGORIES:Musik sonstige
CATEGORIES:Konzert
DESCRIPTION:Sara Bax\n„She’s the Poem“ ist eine Serie von zehn poetischen P
 orträts\, die von Menschen\, denen man auf der Straße begegnen könnte\, bi
 s hin zu Ikonen wie Frida Kahlo reichen. Es ist eine Ode an die Echtheit: 
 das Schöne und das Hässliche\, das Rohe und Ungeschliffene. Mit diesem Alb
 um zeigt Sara Bax\, dass sie Komponistin und Musikerin ist\, sich aber vor
  allem durch die Musik als Künstlerin fühlt. Sie möchte dich ins Zentrum d
 es Seins entführen\, dich die Funken der Magie spüren lassen\, die dort fl
 ießen. Wenn du deinen Kopf unter Wasser hältst\, kommen deine Gedanken zur
  Ruhe. Genauso wie wenn du dieser Band zuhörst. Bax nutzt die Kraft jedes 
 einzelnen Bandmitglieds\, sodass die Gruppe zusammen wie ein einziges star
 kes Instrument klingt\, das die Luft mit einer reichen Farbpalette erfüllt
 .\n\nmehr Informationen unter http://pages.destination.one/de/lueneburg/st
 reaming/detail/Event/e_101158466/sara-bax-shes-the-poem
DTEND;TZID=Europe/Berlin:20260821T235900
DTSTAMP:20260421T091103Z
DTSTART;TZID=Europe/Berlin:20260821T200000
GEO:53.262840;10.371900
LOCATION:Kulturforum Lüneburg\, Gut Wienebüttel 1\, Lüneburg
SEQUENCE:0
SUMMARY:Sara Bax - Shes the Poem
UID:e_101158466_iv0
URL:http://pages.destination.one/de/lueneburg/streaming/detail/Event/e_1011
 58466/sara-bax-shes-the-poem
END:VEVENT
BEGIN:VTIMEZONE
TZID:Europe/Berlin
X-LIC-LOCATION:Europe/Berlin
BEGIN:DAYLIGHT
DTSTART:19700329T020000
RRULE:FREQ=YEARLY;BYDAY=-1SU;BYMONTH=3
TZNAME:CEST
TZOFFSETFROM:+0100
TZOFFSETTO:+0200
END:DAYLIGHT
BEGIN:STANDARD
DTSTART:19701025T030000
RRULE:FREQ=YEARLY;BYDAY=-1SU;BYMONTH=10
TZNAME:CET
TZOFFSETFROM:+0200
TZOFFSETTO:+0100
END:STANDARD
END:VTIMEZONE
END:VCALENDAR
