BEGIN:VCALENDAR
VERSION:2.0
PRODID:-//destination.one//NONSGML destination.meta API//DE
X-WR-CALDESC:A calendar powered by destination.meta
X-WR-CALNAME:lueneburg Kalender via destination.meta
BEGIN:VEVENT
CATEGORIES:Lesung
DESCRIPTION:Eine Veranstaltung der Reihe Sie müssen mir glauben! - Die Gehe
 imnisse der Aussagepsychologie - Blutspuren-Tour\nWenn der Freispruch oder
  die lebenslange Haftstrafe von Aussagen abhängen\, wie ein Zünglein an de
 r Waage\, helfen die Geheimnisse der Psychologie.\n\nStrafverteidiger Veik
 ko Bartel lädt Sie zu einem spannenden Abend über heikle Fälle ein\, in de
 nen Aussage gegen Aussage steht. Erfahren Sie aus erster Hand\, wie die Wa
 hrheit in den Untiefen menschlicher Erinnerungen und Erzählungen gesucht w
 ird und welche entscheidende Rolle die Glaubwürdigkeit von Zeugenaussagen 
 in Strafprozessen spielt.\n\nTauchen Sie ein in die fesselnde Welt der Wah
 ren Verbrechen und blicken Sie hinter die Kulissen des Gerichtssaals\, wen
 n Zeugen vernommen werden!\n\nVeikko Bartel beleuchtet anhand packender Fa
 llbeispiele die Herausforderungen und Fallstricke\, wenn es um die Aufklär
 ung von Verbrechen geht und nur das gesprochene Wort als Beweis dient. Ein
  Muss für alle\, die sich für Kriminalfälle\, Psychologie und die Feinheit
 en des Rechtssystems interessieren! Nach diesem Abend wird sie niemand meh
 r anlügen können.\n\nmehr Informationen unter http://pages.destination.one
 /de/lueneburg/streaming/detail/Event/e_101158767/sie-m-ssen-mir-glauben-di
 e-geheimnisse-der-aussagepsychologie
DTEND;TZID=Europe/Berlin:20260529T235900
DTSTAMP:20260420T124122Z
DTSTART;TZID=Europe/Berlin:20260529T193000
GEO:53.250494;10.400128
LOCATION:Ritterakademie\, Am Graalwall 12\, Lüneburg
SEQUENCE:0
SUMMARY:Sie müssen mir glauben! - Die Geheimnisse der Aussagepsychologie
UID:e_101158767_iv0
URL:http://pages.destination.one/de/lueneburg/streaming/detail/Event/e_1011
 58767/sie-m-ssen-mir-glauben-die-geheimnisse-der-aussagepsychologie
END:VEVENT
BEGIN:VTIMEZONE
TZID:Europe/Berlin
X-LIC-LOCATION:Europe/Berlin
BEGIN:DAYLIGHT
DTSTART:19700329T020000
RRULE:FREQ=YEARLY;BYDAY=-1SU;BYMONTH=3
TZNAME:CEST
TZOFFSETFROM:+0100
TZOFFSETTO:+0200
END:DAYLIGHT
BEGIN:STANDARD
DTSTART:19701025T030000
RRULE:FREQ=YEARLY;BYDAY=-1SU;BYMONTH=10
TZNAME:CET
TZOFFSETFROM:+0200
TZOFFSETTO:+0100
END:STANDARD
END:VTIMEZONE
END:VCALENDAR
