BEGIN:VCALENDAR
VERSION:2.0
PRODID:-//destination.one//NONSGML destination.meta API//DE
X-WR-CALDESC:A calendar powered by destination.meta
X-WR-CALNAME:lueneburg Kalender via destination.meta
BEGIN:VEVENT
CATEGORIES:Festival
DESCRIPTION:Festival Die Wege Bachs (Chemins de Bach)\nDirigent: Raphaël Pi
 chon\n \nRaphaël Pichon und das junge Kammerorchester ensemble reflektor b
 egeben sich auf eine musikalische Reise\, die zwei Höhepunkte der deutsche
 n Musikgeschichte miteinander verbindet: Johann Sebastian Bach und Richard
  Strauss. Von der Intimität der geistlichen Arie Vergiss mein nicht BWV 50
 5 (1725) bis zur Schlichtheit der Kantate Ich habe genug BWV 82a (1727) wi
 rken die Werke wie ein einhüllendes Gebet. Das Brandenburgische Konzert Nr
 . 3 BWV 1048 (um 1271) zelebriert die Kraft des Kollektivs. Bach beruft si
 ch dabei auf eine kontrapunktische Tradition\, für deren Entstehung Lünebu
 rg maßgeblich war. Zwei Jahrhunderte später knüpft das Schaffen von Richar
 d Strauss an dieses geistige und musikalische Erbe an. In dem Lied Morgen!
  op. 27 Nr. 4 (1894) wirkt die Gesangslinie wie ein geflüstertes Versprech
 en voller leuchtender Hoffnung: „Und morgen wird die Sonne wieder scheinen
 ...“\, wie es in den Versen des gleichnamigen Gedichts von John Henry Mack
 ay heißt. Tief betroffen von den Katastrophen des Zweiten Weltkriegs kompo
 nierte Strauss 1945 seine Metamorphosen für 23 Streicher\, eine melancholi
 sche Meditation über Erinnerung und Verlust\, bei der jede Stimme zu einer
  dichten und ergreifenden Polyphonie verschmilzt. Im Zentrum des Konzerts 
 stehen Einsamkeit\, Trost und die gemeinsame Suche nach Licht und Hoffnung
 .\n \nProgramm:\nJohann Sebastian Bach: Vergiss Mein nicht BWV 505 \nRicha
 rd Strauss: Metamorphosen für 23 Solostreicher\nJohann Sebastian Bach: Ich
  habe genug BWV 82a \nRichard Strauss: Morgen! Op.27 no. 4 \nJohann Sebast
 ian Bach: Brandenburgisches Konzert Nr. 3 BWV 1048\, G-Dur\n \nDieses Konz
 ert ist Teil des Festivals Die Wege Bachs\, das vom 23.-25.05.2026 in Lüne
 burg stattfindet und vom Kulturforum Lüneburg in Kooperation mit Pygmalion
  und ensemble reflektor veranstaltet wird.\n \nÜber Die Wege Bachs\nIm Jah
 r 1705 ist Johann Sebastian Bach zwanzig Jahre alt. Als junger Organist au
 s bescheidenen Verhältnissen möchte er seine musikalische Bildung vervollk
 ommnen – und so macht er sich von Arnstadt aus auf den Weg nach Lübeck\, u
 m den Komponisten Dietrich Buxtehude zu treffen\, einen unbestrittenen Mei
 ster seines Fachs. Über seine mehr als 400 Kilometer lange Reise\, die tei
 ls zu Fuß auf der römischen Salzstraße erfolgt sein muss\, sind nur wenige
  Details bekannt. Für Bach stellt sie unterdessen eine persönliche und kün
 stlerische Erweckung dar\, die sein gesamtes zukünftiges Werk prägen wird.
  Pygmalion wurde 2006 von Raphaël Pichon gegründet. Anlässlich seines 20-j
 ährigen Bestehens unternimmt das französische Ensemble Pygmalion teils zu 
 Fuß eine ähnlich prägende Reise\, die Konzerte ebenso wie Begegnungsprojek
 te einschließt.  Die Wege Bachs wurde 2024 von ARTE Concert und France Mus
 ique begleitet. Begleiten Sie uns auf der letzten Etappe unserer Reise!\n\
 nmehr Informationen unter http://pages.destination.one/de/lueneburg/stream
 ing/detail/Event/e_101159427/chemins-de-bach-die-wege-bachs-ensemble-refle
 ktor-strauss-bach
DTEND;TZID=Europe/Berlin:20260523T235900
DTSTAMP:20260420T094921Z
DTSTART;TZID=Europe/Berlin:20260523T200000
GEO:53.262840;10.371900
LOCATION:Kulturforum Lüneburg\, Gut Wienebüttel 1\, Lüneburg
SEQUENCE:0
SUMMARY: Chemins de Bach - Die Wege Bachs – ensemble reflektor – Strauss-Ba
 ch
UID:e_101159427_iv0
URL:http://pages.destination.one/de/lueneburg/streaming/detail/Event/e_1011
 59427/chemins-de-bach-die-wege-bachs-ensemble-reflektor-strauss-bach
END:VEVENT
BEGIN:VTIMEZONE
TZID:Europe/Berlin
X-LIC-LOCATION:Europe/Berlin
BEGIN:DAYLIGHT
DTSTART:19700329T020000
RRULE:FREQ=YEARLY;BYDAY=-1SU;BYMONTH=3
TZNAME:CEST
TZOFFSETFROM:+0100
TZOFFSETTO:+0200
END:DAYLIGHT
BEGIN:STANDARD
DTSTART:19701025T030000
RRULE:FREQ=YEARLY;BYDAY=-1SU;BYMONTH=10
TZNAME:CET
TZOFFSETFROM:+0200
TZOFFSETTO:+0100
END:STANDARD
END:VTIMEZONE
END:VCALENDAR
