BEGIN:VCALENDAR
VERSION:2.0
PRODID:-//destination.one//NONSGML destination.meta API//DE
X-WR-CALDESC:A calendar powered by destination.meta
X-WR-CALNAME:lueneburg Kalender via destination.meta
BEGIN:VEVENT
CATEGORIES:Festival
DESCRIPTION:Festival Die Wege Bachs (Chemins de Bach)\nDirigent: Raphaël Pi
 chon\n \nEinladung zum gemeinsamen Spaziergang zum Kloster Lüne gemeinsam 
 mit den Musiker:innen. Treffpunkt ist 15:30 Uhr vor St. Michaelis.\n \nDre
 i bedeutende Komponisten der europäischen Musikgeschichte wurden 1685 gebo
 ren: Johann Sebastian Bach\, Georg Friedrich Händel und Domenico Scarlatti
 . Auch wenn sie im selben Jahr geboren wurden\, schlugen sie doch ganz unt
 erschiedliche Wege ein und prägten jeder für sich die Musiklandschaft eine
 s noch jungen Europas. Dieses Konzert stellt die italienische Pracht von H
 ändels Dixit Dominus\, die protestantische Intimität von Bach und die medi
 terrane Ausdruckskraft von Scarlattis zehnstimmigem Stabat Mater gegenüber
  und bietet so einen kontrastreichen Einblick in den großen Reichtum der B
 arockmusik an der Schwelle zum 18. Jahrhundert.\n \nProgramm:\nJohann Seba
 stian Bach: Kantate BWV 12 « Weinen\, Klagen\, Sorgen\, Zagen »\nDomenico 
 Scarlatti: Stabat Mater\nGeorg Friedrich Haendel: Dixit Dominus\n \nDieses
  Konzert ist Teil des Festivals Die Wege Bachs\, das vom 23.-25.05.2026 in
  Lüneburg stattfindet und vom Kulturforum Lüneburg in Kooperation mit Pygm
 alion und ensemble reflektor veranstaltet wird.\n \nÜber Die Wege Bachs\nI
 m Jahr 1705 ist Johann Sebastian Bach zwanzig Jahre alt. Als junger Organi
 st aus bescheidenen Verhältnissen möchte er seine musikalische Bildung ver
 vollkommnen – und so macht er sich von Arnstadt aus auf den Weg nach Lübec
 k\, um den Komponisten Dietrich Buxtehude zu treffen\, einen unbestrittene
 n Meister seines Fachs. Über seine mehr als 400 Kilometer lange Reise\, di
 e teils zu Fuß auf der römischen Salzstraße erfolgt sein muss\, sind nur w
 enige Details bekannt. Für Bach stellt sie unterdessen eine persönliche un
 d künstlerische Erweckung dar\, die sein gesamtes zukünftiges Werk prägen 
 wird. Pygmalion wurde 2006 von Raphaël Pichon gegründet. Anlässlich seines
  20-jährigen Bestehens unternimmt das französische Ensemble Pygmalion teil
 s zu Fuß eine ähnlich prägende Reise\, die Konzerte ebenso wie Begegnungsp
 rojekte einschließt.  Die Wege Bachs wurde 2024 von ARTE Concert und Franc
 e Musique begleitet. Begleiten Sie uns auf der letzten Etappe unserer Reis
 e!\n \nPygmalion Chor & Orchester\n2006 von Raphaël Pichon gegründet\, set
 zt sich Pygmalion aus Sängern sowie Instrumentalisten zusammen\, die auf h
 istorischen Instrumenten musizieren. Seinen Schwerpunkt legt das Ensemble 
 darauf\, musikalische Verbindungen zwischen Komponisten aufzuspüren\, zum 
 Beispiel das Erbe Bachs bei Felix Mendelssohn Bartholdy oder die Nähe von 
 Heinrich Schütz und Johannes Brahms. Regelmäßig tritt das Ensemble mit Kon
 zerten und Opernproduktionen in den renommiertesten Konzerthäusern Frankre
 ichs und international auf\, seine zahlreichen Aufnahmen werden bei harmon
 ia mundi veröffentlicht. Zuletzt erschienen die Motetten\, die Matthäuspas
 sion und die Johannespassion von Bach\, das Album Mein Traum mit dem Barit
 on Stéphane Degout\, Monteverdis Vespro della Beate Vergine und ein Bach-H
 ändel-Album mit Sabine Devieilhe.\n\nmehr Informationen unter http://pages
 .destination.one/de/lueneburg/streaming/detail/Event/e_101159428/chemins-d
 e-bach-die-wege-bachs-pygmalion-1685-geburtsjahr-von-drei-genies
DTEND;TZID=Europe/Berlin:20260525T235900
DTSTAMP:20260420T123716Z
DTSTART;TZID=Europe/Berlin:20260525T170000
GEO:53.261093;10.422176
LOCATION:Kloster Lüne\, Am Domänenhof\, Lüneburg
SEQUENCE:0
SUMMARY:Chemins de Bach - Die Wege Bachs - Pygmalion - 1685-Geburtsjahr von
  drei Genies
UID:e_101159428_iv0
URL:http://pages.destination.one/de/lueneburg/streaming/detail/Event/e_1011
 59428/chemins-de-bach-die-wege-bachs-pygmalion-1685-geburtsjahr-von-drei-g
 enies
END:VEVENT
BEGIN:VTIMEZONE
TZID:Europe/Berlin
X-LIC-LOCATION:Europe/Berlin
BEGIN:DAYLIGHT
DTSTART:19700329T020000
RRULE:FREQ=YEARLY;BYDAY=-1SU;BYMONTH=3
TZNAME:CEST
TZOFFSETFROM:+0100
TZOFFSETTO:+0200
END:DAYLIGHT
BEGIN:STANDARD
DTSTART:19701025T030000
RRULE:FREQ=YEARLY;BYDAY=-1SU;BYMONTH=10
TZNAME:CET
TZOFFSETFROM:+0200
TZOFFSETTO:+0100
END:STANDARD
END:VTIMEZONE
END:VCALENDAR
