BEGIN:VCALENDAR
VERSION:2.0
PRODID:-//destination.one//NONSGML destination.meta API//DE
X-WR-CALDESC:A calendar powered by destination.meta
X-WR-CALNAME:lueneburg Kalender via destination.meta
BEGIN:VEVENT
CATEGORIES:Festival
DESCRIPTION:Festival Die Wege Bachs (Chemins de Bach)\nDirigent: Raphaël Pi
 chon\n \nIn Lüneburg konnte der junge Bach auf eine beeindruckende Notenbi
 bliothek zurückgreifen\, die seinen musikalischen Horizont erweitert haben
  muss. In der eindrucksvollen Architektur von St. Michaelis\, Bachs prägen
 dem Schulort\, lassen sich Pygmalion und Raphaël Pichon in die Welt entfüh
 ren\, die Bach zu seiner Lüneburger Zeit vorfand und zeigen die Vielfalt a
 n Stilen\, die im Europa des 17. Jahrhunderts aufeinandertrafen. Um den Be
 ginn des 17. Jahrhunderts herum strebten deutsche Komponisten eine Rückkeh
 r zu italienischen Vorbildern an. Venedig strahlte mit seiner Akustik und 
 seinen architonischen Innovationen\, den Cori spezzati und dem Siegeszug d
 er Mehrchörigkeit ins protestantische Deutschland aus. Doch der Dreißigjäh
 rige Krieg bremste diesen Elan. Der Musikstil wurde intimer: Es entstanden
  die kleinen geistlichen Konzerte\, Nachfolger der italienischen Motetten 
 für Solostimme und Continuo. Aufgebaut wie eine große ökumenische lutheris
 che Vesper\, vereint dieses Programm die großen deutschen und italienische
 n Meister: Praetorius\, Schütz\, Scheidt\, Monteverdi und Cavalli antworte
 n einander in einem Wechselspiel von Echos. Die Mehrchörigkeit wird zu Jau
 chzen\, Lebensfreude und sinnlicher Ausgelassenheit. Wir feiern eine Verbi
 ndung\, die die europäische Musik geprägt hat.\n \nDieses Konzert ist Teil
  des Festivals Die Wege Bachs\, das vom 23.-25.05.2026 in Lüneburg stattfi
 ndet und vom Kulturforum Lüneburg in Kooperation mit Pygmalion und ensembl
 e reflektor veranstaltet wird.\n \nÜber Die Wege Bachs\nIm Jahr 1705 ist J
 ohann Sebastian Bach zwanzig Jahre alt. Als junger Organist aus bescheiden
 en Verhältnissen möchte er seine musikalische Bildung vervollkommnen – und
  so macht er sich von Arnstadt aus auf den Weg nach Lübeck\, um den Kompon
 isten Dietrich Buxtehude zu treffen\, einen unbestrittenen Meister seines 
 Fachs. Über seine mehr als 400 Kilometer lange Reise\, die teils zu Fuß au
 f der römischen Salzstraße erfolgt sein muss\, sind nur wenige Details bek
 annt. Für Bach stellt sie unterdessen eine persönliche und künstlerische E
 rweckung dar\, die sein gesamtes zukünftiges Werk prägen wird. Pygmalion w
 urde 2006 von Raphaël Pichon gegründet. Anlässlich seines 20-jährigen Best
 ehens unternimmt das französische Ensemble Pygmalion teils zu Fuß eine ähn
 lich prägende Reise\, die Konzerte ebenso wie Begegnungsprojekte einschlie
 ßt.  Die Wege Bachs wurde 2024 von ARTE Concert und France Musique begleit
 et. Begleiten Sie uns auf der letzten Etappe unserer Reise!\n \nPygmalion 
 Chor & Orchester\n2006 von Raphaël Pichon gegründet\, setzt sich Pygmalion
  aus Sängern sowie Instrumentalisten zusammen\, die auf historischen Instr
 umenten musizieren. Seinen Schwerpunkt legt das Ensemble darauf\, musikali
 sche Verbindungen zwischen Komponisten aufzuspüren\, zum Beispiel das Erbe
  Bachs bei Felix Mendelssohn Bartholdy oder die Nähe von Heinrich Schütz u
 nd Johannes Brahms. Regelmäßig tritt das Ensemble mit Konzerten und Opernp
 roduktionen in den renommiertesten Konzerthäusern Frankreichs und internat
 ional auf\, seine zahlreichen Aufnahmen werden bei harmonia mundi veröffen
 tlicht. Zuletzt erschienen die Motetten\, die Matthäuspassion und die Joha
 nnespassion von Bach\, das Album Mein Traum mit dem Bariton Stéphane Degou
 t\, Monteverdis Vespro della Beate Vergine und ein Bach-Händel-Album mit S
 abine Devieilhe.\n\nmehr Informationen unter http://pages.destination.one/
 de/lueneburg/streaming/detail/Event/e_101159429/chemins-de-bach-die-wege-b
 achs-pygmalion-vertigo
DTEND;TZID=Europe/Berlin:20260524T235900
DTSTAMP:20260420T094917Z
DTSTART;TZID=Europe/Berlin:20260524T180000
GEO:53.249040;10.401020
LOCATION:St. Michaeliskirche Lüneburg\, Johann-Sebastian-Bach-Platz\, Lüneb
 urg
SEQUENCE:0
SUMMARY:Chemins de Bach - Die Wege Bachs - Pygmalion - Vertigo
UID:e_101159429_iv0
URL:http://pages.destination.one/de/lueneburg/streaming/detail/Event/e_1011
 59429/chemins-de-bach-die-wege-bachs-pygmalion-vertigo
END:VEVENT
BEGIN:VTIMEZONE
TZID:Europe/Berlin
X-LIC-LOCATION:Europe/Berlin
BEGIN:DAYLIGHT
DTSTART:19700329T020000
RRULE:FREQ=YEARLY;BYDAY=-1SU;BYMONTH=3
TZNAME:CEST
TZOFFSETFROM:+0100
TZOFFSETTO:+0200
END:DAYLIGHT
BEGIN:STANDARD
DTSTART:19701025T030000
RRULE:FREQ=YEARLY;BYDAY=-1SU;BYMONTH=10
TZNAME:CET
TZOFFSETFROM:+0200
TZOFFSETTO:+0100
END:STANDARD
END:VTIMEZONE
END:VCALENDAR
