BEGIN:VCALENDAR
VERSION:2.0
PRODID:-//destination.one//NONSGML destination.meta API//DE
X-WR-CALDESC:A calendar powered by destination.meta
X-WR-CALNAME:lueneburg Kalender via destination.meta
BEGIN:VEVENT
CATEGORIES:Fotowalk
CATEGORIES:Kurs
CATEGORIES:Seminar/Kurs/Workshop sonstige
DESCRIPTION:Entdecke die Magie der Nachtfotografie\n\nmehr Informationen un
 ter http://pages.destination.one/de/lueneburg/streaming/detail/Event/e_101
 159973/fotokurs-l-neburg-nachtfotografie
DTEND;TZID=Europe/Berlin:20260529T235900
DTSTAMP:20260424T084123Z
DTSTART;TZID=Europe/Berlin:20260529T210000
GEO:53.249773;10.419772
LOCATION:Bahnhof Lüneburg\, Bahnhofstraße\, Lüneburg
ORGANIZER;CN=diefotomanufaktur:mailto:office@diefotomanufaktur.de
SEQUENCE:0
SUMMARY:Fotokurs Lüneburg Nachtfotografie
UID:e_101159973_iv0
URL:http://pages.destination.one/de/lueneburg/streaming/detail/Event/e_1011
 59973/fotokurs-l-neburg-nachtfotografie
END:VEVENT
BEGIN:VEVENT
CATEGORIES:Fotowalk
CATEGORIES:Kurs
CATEGORIES:Seminar/Kurs/Workshop sonstige
DESCRIPTION:Entdecke die Magie der Nachtfotografie\n\nmehr Informationen un
 ter http://pages.destination.one/de/lueneburg/streaming/detail/Event/e_101
 159973/fotokurs-l-neburg-nachtfotografie
DTEND;TZID=Europe/Berlin:20260828T235900
DTSTAMP:20260424T084123Z
DTSTART;TZID=Europe/Berlin:20260828T210000
GEO:53.249773;10.419772
LOCATION:Bahnhof Lüneburg\, Bahnhofstraße\, Lüneburg
ORGANIZER;CN=diefotomanufaktur:mailto:office@diefotomanufaktur.de
SEQUENCE:0
SUMMARY:Fotokurs Lüneburg Nachtfotografie
UID:e_101159973_iv1
URL:http://pages.destination.one/de/lueneburg/streaming/detail/Event/e_1011
 59973/fotokurs-l-neburg-nachtfotografie
END:VEVENT
BEGIN:VEVENT
CATEGORIES:Fotowalk
CATEGORIES:Kurs
CATEGORIES:Seminar/Kurs/Workshop sonstige
DESCRIPTION:Entdecke die Magie der Nachtfotografie\n\nmehr Informationen un
 ter http://pages.destination.one/de/lueneburg/streaming/detail/Event/e_101
 159973/fotokurs-l-neburg-nachtfotografie
DTEND;TZID=Europe/Berlin:20261009T235900
DTSTAMP:20260424T084123Z
DTSTART;TZID=Europe/Berlin:20261009T210000
GEO:53.249773;10.419772
LOCATION:Bahnhof Lüneburg\, Bahnhofstraße\, Lüneburg
ORGANIZER;CN=diefotomanufaktur:mailto:office@diefotomanufaktur.de
SEQUENCE:0
SUMMARY:Fotokurs Lüneburg Nachtfotografie
UID:e_101159973_iv2
URL:http://pages.destination.one/de/lueneburg/streaming/detail/Event/e_1011
 59973/fotokurs-l-neburg-nachtfotografie
END:VEVENT
BEGIN:VTIMEZONE
TZID:Europe/Berlin
X-LIC-LOCATION:Europe/Berlin
BEGIN:DAYLIGHT
DTSTART:19700329T020000
RRULE:FREQ=YEARLY;BYDAY=-1SU;BYMONTH=3
TZNAME:CEST
TZOFFSETFROM:+0100
TZOFFSETTO:+0200
END:DAYLIGHT
BEGIN:STANDARD
DTSTART:19701025T030000
RRULE:FREQ=YEARLY;BYDAY=-1SU;BYMONTH=10
TZNAME:CET
TZOFFSETFROM:+0200
TZOFFSETTO:+0100
END:STANDARD
END:VTIMEZONE
END:VCALENDAR
