BEGIN:VCALENDAR
VERSION:2.0
PRODID:-//destination.one//NONSGML destination.meta API//DE
X-WR-CALDESC:A calendar powered by destination.meta
X-WR-CALNAME:lueneburg Kalender via destination.meta
BEGIN:VEVENT
CATEGORIES:Show sonstige
DESCRIPTION:Eine Veranstaltung der Reihe Alexander Stevens & Constantin Sch
 reiber - Neues Programm - Live\nAlexander Stevens & Constantin Schreiber -
  Neues Programm - Live\n\nmehr Informationen unter http://pages.destinatio
 n.one/de/lueneburg/streaming/detail/Event/e_101161507/alexander-stevens-co
 nstantin-schreiber-neues-programm-2026-live
DTEND;TZID=Europe/Berlin:20261122T235900
DTSTAMP:20260421T081350Z
DTSTART;TZID=Europe/Berlin:20261122T180000
GEO:53.228442;10.404695
LOCATION:Leuphana Universität (Libeskind Auditorium)\, Universitätsallee 1\
 , Lüneburg
SEQUENCE:0
SUMMARY:Alexander Stevens & Constantin Schreiber - Neues Programm 2026 - Li
 ve
UID:e_101161507_iv0
URL:http://pages.destination.one/de/lueneburg/streaming/detail/Event/e_1011
 61507/alexander-stevens-constantin-schreiber-neues-programm-2026-live
END:VEVENT
BEGIN:VTIMEZONE
TZID:Europe/Berlin
X-LIC-LOCATION:Europe/Berlin
BEGIN:DAYLIGHT
DTSTART:19700329T020000
RRULE:FREQ=YEARLY;BYDAY=-1SU;BYMONTH=3
TZNAME:CEST
TZOFFSETFROM:+0100
TZOFFSETTO:+0200
END:DAYLIGHT
BEGIN:STANDARD
DTSTART:19701025T030000
RRULE:FREQ=YEARLY;BYDAY=-1SU;BYMONTH=10
TZNAME:CET
TZOFFSETFROM:+0200
TZOFFSETTO:+0100
END:STANDARD
END:VTIMEZONE
END:VCALENDAR
