BEGIN:VCALENDAR
VERSION:2.0
PRODID:-//destination.one//NONSGML destination.meta API//DE
X-WR-CALDESC:A calendar powered by destination.meta
X-WR-CALNAME:lueneburg Kalender via destination.meta
BEGIN:VEVENT
CATEGORIES:Tanzvorführung
DESCRIPTION:Benefiz-Ballett-Gala / Internationale Tanzgala\n\nmehr Informat
 ionen unter http://pages.destination.one/de/lueneburg/streaming/detail/Eve
 nt/e_101161510/benefiz-ballett-gala-internationale-tanzgala
DTEND;TZID=Europe/Berlin:20260425T235900
DTSTAMP:20260424T083928Z
DTSTART;TZID=Europe/Berlin:20260425T200000
GEO:53.244345;10.406649
LOCATION:Theater Lüneburg\, An den Reeperbahnen 3\, Lüneburg
SEQUENCE:0
SUMMARY:Benefiz-Ballett-Gala / Internationale Tanzgala
UID:e_101161510_iv0
URL:http://pages.destination.one/de/lueneburg/streaming/detail/Event/e_1011
 61510/benefiz-ballett-gala-internationale-tanzgala
END:VEVENT
BEGIN:VTIMEZONE
TZID:Europe/Berlin
X-LIC-LOCATION:Europe/Berlin
BEGIN:DAYLIGHT
DTSTART:19700329T020000
RRULE:FREQ=YEARLY;BYDAY=-1SU;BYMONTH=3
TZNAME:CEST
TZOFFSETFROM:+0100
TZOFFSETTO:+0200
END:DAYLIGHT
BEGIN:STANDARD
DTSTART:19701025T030000
RRULE:FREQ=YEARLY;BYDAY=-1SU;BYMONTH=10
TZNAME:CET
TZOFFSETFROM:+0200
TZOFFSETTO:+0100
END:STANDARD
END:VTIMEZONE
END:VCALENDAR
