BEGIN:VCALENDAR
VERSION:2.0
PRODID:-//destination.one//NONSGML destination.meta API//DE
X-WR-CALDESC:A calendar powered by destination.meta
X-WR-CALNAME:lueneburg Kalender via destination.meta
BEGIN:VEVENT
CATEGORIES:Konzert
DESCRIPTION:Dominik Plangger\nDas siebente Studioalbum von Dominik Plangger
 \, aufgenommen im schönen Kritzendorf an der Donau bei Wien\, vereint Vert
 rautes mit bisher unbekannten Seiten des Singer-Songwriters.\nZwölf Lieder
  erzählen von großen Gefühlen und scheinbar kleinen Alltagsmomenten\, vom 
 Heim-und Ankommen. Feste werden gefeiert und ein Stück Familiengeschichte 
 enthüllt. Dominik Plangger blickt durch das Plakative hindurch\, hebt den 
 dichten Dunst der Oberflächlichkeit und macht in seinen Liedern den Blick 
 frei und die Ohren auf für die feinen Zwischentöne und die unhörbaren Wort
 e zwischen den Zeilen. Feinfühlig und einfühlsam\, kritisch aber ohne zu v
 erurteilen. In allen Dingen zeigt die Welt ihre Nuancen und Zwischentöne\,
  wenn man denn hinsieht und -hört. Die Erkenntnis\, dass es nicht nur schw
 arz oder weiß gibt\, ist untrennbar mit der eigenen Achtsamkeit und Offenh
 eit\, sie auch wahrnehmen zu wollen\, verbunden. Dominik Plangger ist jema
 nd\, der hinsieht\, sich seine Gedanken darüber macht und diese meisterhaf
 t in Worte und Musik zu verpacken vermag. So vielfältig wie die Lieder ist
  auch die musikalische Umsetzung. Dominik Plangger bleibt seinen Wurzeln i
 m Folk mit virtuosem Fingerpicking auf der Gitarre treu\, wagt aber mit ei
 ner Vielzahl musikalischer Wegbegleiter:innen und Instrumenten auch ganz n
 eue Klangwelten.\nDominik Plangger wird sein neues Album im gesamten deuts
 chsprachigen Raum vorstellen. Bei seinen Konzerten weiß der Südtiroler sei
 n Publikum nicht nur mit seiner kraftvoll-schönen Stimme zu fesseln\, sond
 ern auch mit Witz und Charme zu unterhalten. Zwischendurch erzählt er bei 
 seinen Auftritten bildhaft Anekdoten von mehrmonatigen Auslandsaufenthalte
 n und prägenden Begegnungen mit berühmten Musikern. So entschied sich Plan
 gger schon im Teenageralter für eine künstlerische Karriere. Der gebürtige
  Südtiroler brach die Schule ohne Abschluss ab („Das war für beide Seiten 
 das Beste“)\, wurde nach kurzen Arbeitseinsätzen auf einer Baustelle gekün
 digt und finanzierte seinen Lebensunterhalt als Musiker zeitweise in Kanad
 a als Touristenführer. Mittlerweile bewirtschaftet Plangger zusammen mit s
 einer Frau Claudia Fenzl seit vielen Jahren regelmäßig im Sommer eine Alm.
  Auch dazu schrieb der Vinschgauer ein Lied. Doch verklärende Huldigungen 
 an Südtirol sind seine Sache nicht. Weil er in den Songs „Heimatland“ und 
 „Das Dorf“ schonungslos mit Bigotterie\, Nationalismus und Schützenseligke
 it abrechnete\, erhielt Plangger sogar Morddrohungen. Seine Lieder erinner
 n stark an die sozialkritischen eines Hannes Wader oder Konstantin Wecker.
  Mit Letzterem pflegt Plangger eine lange Freundschaft\, die durch gemeins
 ame Auftritte gefestigt wurde. Das neue Album „Limes“ erscheint auf Konsta
 ntin Weckers Label „Sturm und Klang“. Dem Toskana-Liebhaber Wecker imponie
 rten vor allem die italienischen gesungenen Balladen\, wie z. B. der Cover
 version des Friedensappels „Generale“ von Francesco de Gregori oder dem be
 kannten Partisanenlied „Bella Ciao“\, die Dominik Plangger selbstverständl
 ich in jedem seiner Konzerte präsentiert. Klare Position bezieht der Songw
 riter auch in dem Stück „Namenlose“\, das an das Schicksal der im Meer ert
 runkenen Flüchtlinge erinnert. Ebenso wie sein Vorbild\, der 1967 verstorb
 ene US-Protestsänger Woody Guthrie\, im Original „Deportee“\, gibt Plangge
 r den in Vergessenheit geratenen Toten einen Namen.\nDominik Plangger ist 
 in der deutschsprachigen Musikszene der Sparte Singer-Songwriter mittlerwe
 ile in der hohen Liga angekommen\, fesselt nicht nur durch seine Poesie\, 
 er verzaubert das Publikum durch virtuoses Gitarrenspiel und weiß bei sein
 en Konzerten sein Publikum nicht nur mit seiner kraftvoll-schönen Stimme z
 u fesseln\, sondern auch mit Witz und Charme zu unterhalten.\n\nmehr Infor
 mationen unter http://pages.destination.one/de/lueneburg/streaming/detail/
 Event/e_101162681/dominik-plangger-limes-grenzg-nge-des-lebens
DTEND;TZID=Europe/Berlin:20261107T235900
DTSTAMP:20260421T091217Z
DTSTART;TZID=Europe/Berlin:20261107T200000
GEO:53.262840;10.371900
LOCATION:Kulturforum Lüneburg\, Gut Wienebüttel 1\, Lüneburg
SEQUENCE:0
SUMMARY:Dominik Plangger - Limes - Grenzgänge des Lebens
UID:e_101162681_iv0
URL:http://pages.destination.one/de/lueneburg/streaming/detail/Event/e_1011
 62681/dominik-plangger-limes-grenzg-nge-des-lebens
END:VEVENT
BEGIN:VTIMEZONE
TZID:Europe/Berlin
X-LIC-LOCATION:Europe/Berlin
BEGIN:DAYLIGHT
DTSTART:19700329T020000
RRULE:FREQ=YEARLY;BYDAY=-1SU;BYMONTH=3
TZNAME:CEST
TZOFFSETFROM:+0100
TZOFFSETTO:+0200
END:DAYLIGHT
BEGIN:STANDARD
DTSTART:19701025T030000
RRULE:FREQ=YEARLY;BYDAY=-1SU;BYMONTH=10
TZNAME:CET
TZOFFSETFROM:+0200
TZOFFSETTO:+0100
END:STANDARD
END:VTIMEZONE
END:VCALENDAR
