BEGIN:VCALENDAR
VERSION:2.0
PRODID:-//destination.one//NONSGML destination.meta API//DE
X-WR-CALDESC:A calendar powered by destination.meta
X-WR-CALNAME:lueneburg Kalender via destination.meta
BEGIN:VEVENT
CATEGORIES:Musical
DESCRIPTION:K-POP SHOWDOWN – THE ULTIMATE TRIBUTE SHOW\nDie erste große K-P
 op Tribute Show Deutschlands!\n\nInspiriert von dem internationalen Netfli
 x-Erfolg „K-POP Demon Hunters“\, der seit Monaten weltweit für Furore sorg
 t\, entsteht mit K-POP SHOWDOWN – The Ultimate Tribute Show eine spektakul
 äre Liveshow\, die die Ästhetik und Energie moderner K-Pop-Produktionen mi
 t den größten K-Pop-Hits der letzten Jahre verbindet.\n\nAb April 2026 geh
 t das Event auf große Deutschland-Tour. Eine energiegeladene Girlgroup und
  eine dynamische Boyband liefern sich ein faszinierendes Chartbattle mit T
 anz\, Gesang und spektakulären Showelementen. Auf der Setlist stehen alle 
 Hits aus K-POP Demon Hunters sowie Songs von Blackpink\, BTS\, Twice\, Str
 ay Kids und vielen weiteren – live performt mit LED-Walls\, Licht- und Sho
 weffekten\, Konfetti und beeindruckender Bühnenästhetik.\n\nDas renommiert
 e Showensemble besteht aus professionellen Sänger:innen & Tänzer:innen\,\n
 \ndie die Emotion\, Präzision und Energie des K-Pop authentisch auf die Bü
 hne bringen.\n\nEin besonderes Highlight ist das „Sing & Dance Along“-Konz
 ept: Bei ausgewählten Songs erscheinen Songtexte und Moves direkt auf der 
 LED-Wall. Das Publikum kann live mitsingen und mittanzen – mit Choreografi
 en\, die in Kooperation mit der K-Pop-Tanzschule Town K entstehen. Die ver
 einfachten Tanzschritte werden auf dem YouTube-Kanal veröffentlicht.\n\nDa
 nk familienfreundlicher Showzeiten ist K-POP SHOWDOWN das perfekte Event f
 ür Kinder\, Jugendliche\, Familien und alle K-Pop-Fans\, die ein außergewö
 hnliches Live-Erlebnis suchen.\n\nVolle K-Pop Power – durch Show\, Leidens
 chaft und Community!\nEin einzigartiges Live-Event\, das Fans\, Musik und 
 Emotion in einer Show vereint.\n\nmehr Informationen unter http://pages.de
 stination.one/de/lueneburg/streaming/detail/Event/e_101162687/k-pop-showdo
 wn-the-ultimate-tribute-show
DTEND;TZID=Europe/Berlin:20260510T235900
DTSTAMP:20260422T085101Z
DTSTART;TZID=Europe/Berlin:20260510T183000
GEO:53.272355;10.423034
LOCATION:LKH Arena\, Lüner Rennbahn 5\, Lüneburg
SEQUENCE:0
SUMMARY:K-POP Showdown - The Ultimate Tribute Show
UID:e_101162687_iv0
URL:http://pages.destination.one/de/lueneburg/streaming/detail/Event/e_1011
 62687/k-pop-showdown-the-ultimate-tribute-show
END:VEVENT
BEGIN:VTIMEZONE
TZID:Europe/Berlin
X-LIC-LOCATION:Europe/Berlin
BEGIN:DAYLIGHT
DTSTART:19700329T020000
RRULE:FREQ=YEARLY;BYDAY=-1SU;BYMONTH=3
TZNAME:CEST
TZOFFSETFROM:+0100
TZOFFSETTO:+0200
END:DAYLIGHT
BEGIN:STANDARD
DTSTART:19701025T030000
RRULE:FREQ=YEARLY;BYDAY=-1SU;BYMONTH=10
TZNAME:CET
TZOFFSETFROM:+0200
TZOFFSETTO:+0100
END:STANDARD
END:VTIMEZONE
END:VCALENDAR
