BEGIN:VCALENDAR
VERSION:2.0
PRODID:-//destination.one//NONSGML destination.meta API//DE
X-WR-CALDESC:A calendar powered by destination.meta
X-WR-CALNAME:lueneburg Kalender via destination.meta
BEGIN:VEVENT
CATEGORIES:Konzert
DESCRIPTION:Alte Bekannte gehören ohne Zweifel zu den außergewöhnlichsten P
 hänomenen der Konzertszene.\n\nmehr Informationen unter http://pages.desti
 nation.one/de/lueneburg/streaming/detail/Event/e_101165489/alte-bekannte-m
 ehr-live
DTEND;TZID=Europe/Berlin:20261129T213000
DTSTAMP:20260420T083502Z
DTSTART;TZID=Europe/Berlin:20261129T190000
GEO:53.261625;10.373238
LOCATION:Kulturforum Lüneburg\, Gut Wienebüttel 1\, Lüneburg
ORGANIZER;CN=MITUNSKANNMAN.REDEN. GmbH & Co. KG:mailto:marketing@mitunskann
 manreden.de
SEQUENCE:0
SUMMARY: Alte Bekannte  MEHR! Live 
UID:e_101165489_iv0
URL:http://pages.destination.one/de/lueneburg/streaming/detail/Event/e_1011
 65489/alte-bekannte-mehr-live
END:VEVENT
BEGIN:VTIMEZONE
TZID:Europe/Berlin
X-LIC-LOCATION:Europe/Berlin
BEGIN:DAYLIGHT
DTSTART:19700329T020000
RRULE:FREQ=YEARLY;BYDAY=-1SU;BYMONTH=3
TZNAME:CEST
TZOFFSETFROM:+0100
TZOFFSETTO:+0200
END:DAYLIGHT
BEGIN:STANDARD
DTSTART:19701025T030000
RRULE:FREQ=YEARLY;BYDAY=-1SU;BYMONTH=10
TZNAME:CET
TZOFFSETFROM:+0200
TZOFFSETTO:+0100
END:STANDARD
END:VTIMEZONE
END:VCALENDAR
