BEGIN:VCALENDAR
VERSION:2.0
PRODID:-//destination.one//NONSGML destination.meta API//DE
X-WR-CALDESC:A calendar powered by destination.meta
X-WR-CALNAME:lueneburg Kalender via destination.meta
BEGIN:VEVENT
CATEGORIES:Bar
CATEGORIES:Konzert
DESCRIPTION:Mina Richman & Band im Salon Hansen\n\nmehr Informationen unter
  http://pages.destination.one/de/lueneburg/streaming/detail/Event/e_101169
 729/mina-richman-band-different-flavours-of-being-happy-tour
DTEND;TZID=Europe/Berlin:20261113T230000
DTSTAMP:20260421T091532Z
DTSTART;TZID=Europe/Berlin:20261113T203000
GEO:53.247411;10.403572
LOCATION:Salon Hansen\, Salzstraße 1 \, Lüneburg
ORGANIZER;CN=Salon Hansen:mailto:hanna@salonhansen.com
SEQUENCE:0
SUMMARY:MINA RICHMAN & Band - Different Flavours Of Being Happy - Tour
UID:e_101169729_iv0
URL:http://pages.destination.one/de/lueneburg/streaming/detail/Event/e_1011
 69729/mina-richman-band-different-flavours-of-being-happy-tour
END:VEVENT
BEGIN:VTIMEZONE
TZID:Europe/Berlin
X-LIC-LOCATION:Europe/Berlin
BEGIN:DAYLIGHT
DTSTART:19700329T020000
RRULE:FREQ=YEARLY;BYDAY=-1SU;BYMONTH=3
TZNAME:CEST
TZOFFSETFROM:+0100
TZOFFSETTO:+0200
END:DAYLIGHT
BEGIN:STANDARD
DTSTART:19701025T030000
RRULE:FREQ=YEARLY;BYDAY=-1SU;BYMONTH=10
TZNAME:CET
TZOFFSETFROM:+0200
TZOFFSETTO:+0100
END:STANDARD
END:VTIMEZONE
END:VCALENDAR
