BEGIN:VCALENDAR
VERSION:2.0
PRODID:-//destination.one//NONSGML destination.meta API//DE
X-WR-CALDESC:A calendar powered by destination.meta
X-WR-CALNAME:lueneburg Kalender via destination.meta
BEGIN:VEVENT
CATEGORIES:Konzert
CATEGORIES:Open Air sonstige
CATEGORIES:Festival
CATEGORIES:Musik sonstige
DESCRIPTION:SOPHIA & GREGOR MEYLE - DAS DOPPELKONZERT\nLive auf dem Lünebur
 ger Kultursommer 2026\n\nmehr Informationen unter http://pages.destination
 .one/de/lueneburg/streaming/detail/Event/e_101170379/sophia-gregor-meyle-d
 as-doppelkonzert-l-neburger-kultursommer
DTEND;TZID=Europe/Berlin:20260808T220000
DTSTAMP:20260421T091402Z
DTSTART;TZID=Europe/Berlin:20260808T170000
GEO:53.246555;10.394279
LOCATION:Sülzwiesen Lüneburg\, Schnellenberger Weg 109\, Lüneburg
ORGANIZER;CN=Lüneburger Kultursommer:mailto:info@lueneburger-kultursommmer.
 de
SEQUENCE:0
SUMMARY:SOPHIA & Gregor Meyle – Das Doppelkonzert – Lüneburger Kultursommer
UID:e_101170379_iv0
URL:http://pages.destination.one/de/lueneburg/streaming/detail/Event/e_1011
 70379/sophia-gregor-meyle-das-doppelkonzert-l-neburger-kultursommer
END:VEVENT
BEGIN:VTIMEZONE
TZID:Europe/Berlin
X-LIC-LOCATION:Europe/Berlin
BEGIN:DAYLIGHT
DTSTART:19700329T020000
RRULE:FREQ=YEARLY;BYDAY=-1SU;BYMONTH=3
TZNAME:CEST
TZOFFSETFROM:+0100
TZOFFSETTO:+0200
END:DAYLIGHT
BEGIN:STANDARD
DTSTART:19701025T030000
RRULE:FREQ=YEARLY;BYDAY=-1SU;BYMONTH=10
TZNAME:CET
TZOFFSETFROM:+0200
TZOFFSETTO:+0100
END:STANDARD
END:VTIMEZONE
END:VCALENDAR
