BEGIN:VCALENDAR
VERSION:2.0
PRODID:-//destination.one//NONSGML destination.meta API//DE
X-WR-CALDESC:A calendar powered by destination.meta
X-WR-CALNAME:lueneburg Kalender via destination.meta
BEGIN:VEVENT
CATEGORIES:Religion sonstige
DESCRIPTION:\n\nmehr Informationen unter http://pages.destination.one/de/lu
 eneburg/streaming/detail/Event/e_101171638/vesper-singen-auf-dem-nonnencho
 r
DTEND;TZID=Europe/Berlin:20260227T180000
DTSTAMP:20260422T085138Z
DTSTART;TZID=Europe/Berlin:20260227T173000
GEO:53.260814;10.422261
LOCATION:Kloster Lüne\, Am Domänenhof\, Lüneburg
ORGANIZER;CN=Kloster Lüne:mailto:info@kloster-luene.de
SEQUENCE:0
SUMMARY:Vesper-Singen auf dem Nonnenchor
UID:e_101171638_iv0
URL:http://pages.destination.one/de/lueneburg/streaming/detail/Event/e_1011
 71638/vesper-singen-auf-dem-nonnenchor
END:VEVENT
BEGIN:VEVENT
CATEGORIES:Religion sonstige
DESCRIPTION:\n\nmehr Informationen unter http://pages.destination.one/de/lu
 eneburg/streaming/detail/Event/e_101171638/vesper-singen-auf-dem-nonnencho
 r
DTEND;TZID=Europe/Berlin:20260313T180000
DTSTAMP:20260422T085138Z
DTSTART;TZID=Europe/Berlin:20260313T173000
GEO:53.260814;10.422261
LOCATION:Kloster Lüne\, Am Domänenhof\, Lüneburg
ORGANIZER;CN=Kloster Lüne:mailto:info@kloster-luene.de
SEQUENCE:0
SUMMARY:Vesper-Singen auf dem Nonnenchor
UID:e_101171638_iv1
URL:http://pages.destination.one/de/lueneburg/streaming/detail/Event/e_1011
 71638/vesper-singen-auf-dem-nonnenchor
END:VEVENT
BEGIN:VEVENT
CATEGORIES:Religion sonstige
DESCRIPTION:\n\nmehr Informationen unter http://pages.destination.one/de/lu
 eneburg/streaming/detail/Event/e_101171638/vesper-singen-auf-dem-nonnencho
 r
DTEND;TZID=Europe/Berlin:20260327T180000
DTSTAMP:20260422T085138Z
DTSTART;TZID=Europe/Berlin:20260327T173000
GEO:53.260814;10.422261
LOCATION:Kloster Lüne\, Am Domänenhof\, Lüneburg
ORGANIZER;CN=Kloster Lüne:mailto:info@kloster-luene.de
SEQUENCE:0
SUMMARY:Vesper-Singen auf dem Nonnenchor
UID:e_101171638_iv2
URL:http://pages.destination.one/de/lueneburg/streaming/detail/Event/e_1011
 71638/vesper-singen-auf-dem-nonnenchor
END:VEVENT
BEGIN:VEVENT
CATEGORIES:Religion sonstige
DESCRIPTION:\n\nmehr Informationen unter http://pages.destination.one/de/lu
 eneburg/streaming/detail/Event/e_101171638/vesper-singen-auf-dem-nonnencho
 r
DTEND;TZID=Europe/Berlin:20260410T180000
DTSTAMP:20260422T085138Z
DTSTART;TZID=Europe/Berlin:20260410T173000
GEO:53.260814;10.422261
LOCATION:Kloster Lüne\, Am Domänenhof\, Lüneburg
ORGANIZER;CN=Kloster Lüne:mailto:info@kloster-luene.de
SEQUENCE:0
SUMMARY:Vesper-Singen auf dem Nonnenchor
UID:e_101171638_iv3
URL:http://pages.destination.one/de/lueneburg/streaming/detail/Event/e_1011
 71638/vesper-singen-auf-dem-nonnenchor
END:VEVENT
BEGIN:VEVENT
CATEGORIES:Religion sonstige
DESCRIPTION:\n\nmehr Informationen unter http://pages.destination.one/de/lu
 eneburg/streaming/detail/Event/e_101171638/vesper-singen-auf-dem-nonnencho
 r
DTEND;TZID=Europe/Berlin:20260424T180000
DTSTAMP:20260422T085138Z
DTSTART;TZID=Europe/Berlin:20260424T173000
GEO:53.260814;10.422261
LOCATION:Kloster Lüne\, Am Domänenhof\, Lüneburg
ORGANIZER;CN=Kloster Lüne:mailto:info@kloster-luene.de
SEQUENCE:0
SUMMARY:Vesper-Singen auf dem Nonnenchor
UID:e_101171638_iv4
URL:http://pages.destination.one/de/lueneburg/streaming/detail/Event/e_1011
 71638/vesper-singen-auf-dem-nonnenchor
END:VEVENT
BEGIN:VTIMEZONE
TZID:Europe/Berlin
X-LIC-LOCATION:Europe/Berlin
BEGIN:DAYLIGHT
DTSTART:19700329T020000
RRULE:FREQ=YEARLY;BYDAY=-1SU;BYMONTH=3
TZNAME:CEST
TZOFFSETFROM:+0100
TZOFFSETTO:+0200
END:DAYLIGHT
BEGIN:STANDARD
DTSTART:19701025T030000
RRULE:FREQ=YEARLY;BYDAY=-1SU;BYMONTH=10
TZNAME:CET
TZOFFSETFROM:+0200
TZOFFSETTO:+0100
END:STANDARD
END:VTIMEZONE
END:VCALENDAR
