BEGIN:VCALENDAR
VERSION:2.0
PRODID:-//destination.one//NONSGML destination.meta API//DE
X-WR-CALDESC:A calendar powered by destination.meta
X-WR-CALNAME:lueneburg Kalender via destination.meta
BEGIN:VEVENT
CATEGORIES:Malkurs
DESCRIPTION:Das ABENDATELIER (am 25.11.2025 zu Gabriele Münters "Stillleben
  vor dem gelben Haus") lädt dazu ein\, sich bei einem Glas Wein oder einer
  Tasse Tee von Kunstwerken zeitgenössischer Künstlerinnen oder den Alten M
 eistern und lebendig vermittelter Kunstgeschichte begeistern zu lassen.\n\
 nmehr Informationen unter http://pages.destination.one/de/lueneburg/stream
 ing/detail/Event/e_101180930/abendatelier
DTEND;TZID=Europe/Berlin:20261125T220000
DTSTAMP:20260421T081134Z
DTSTART;TZID=Europe/Berlin:20261125T190000
GEO:53.242876;10.411443
LOCATION:Atelier Christina Kaul\, Wilschenbrucher Weg 38\, Lüneburg
ORGANIZER;CN=Christina Kaul:mailto:kaul@christinakaul.de
SEQUENCE:0
SUMMARY:ABENDATELIER
UID:e_101180930_iv0
URL:http://pages.destination.one/de/lueneburg/streaming/detail/Event/e_1011
 80930/abendatelier
END:VEVENT
BEGIN:VTIMEZONE
TZID:Europe/Berlin
X-LIC-LOCATION:Europe/Berlin
BEGIN:DAYLIGHT
DTSTART:19700329T020000
RRULE:FREQ=YEARLY;BYDAY=-1SU;BYMONTH=3
TZNAME:CEST
TZOFFSETFROM:+0100
TZOFFSETTO:+0200
END:DAYLIGHT
BEGIN:STANDARD
DTSTART:19701025T030000
RRULE:FREQ=YEARLY;BYDAY=-1SU;BYMONTH=10
TZNAME:CET
TZOFFSETFROM:+0200
TZOFFSETTO:+0100
END:STANDARD
END:VTIMEZONE
END:VCALENDAR
