BEGIN:VCALENDAR
VERSION:2.0
PRODID:-//destination.one//NONSGML destination.meta API//DE
X-WR-CALDESC:A calendar powered by destination.meta
X-WR-CALNAME:lueneburg Kalender via destination.meta
BEGIN:VEVENT
CATEGORIES:Vortrag\, Diskussion\, Lesung sonstige
DESCRIPTION:Immer wieder erleben Menschen mit Beeinträchtigungen Ausgrenzun
 g und Gewalt. Diskriminierung gehört zum Alltag ebenso wie offen geäußerte
  Feindseligkeiten. Menschen mit Beeinträchtigungen fühlen sich in Deutschl
 and durch das Erstarken rechter Positionen zunehmend bedroht. Studien bele
 gen die Zunahme von sozialdarwinistischen Einstellungen.\n\nmehr Informati
 onen unter http://pages.destination.one/de/lueneburg/streaming/detail/Even
 t/e_101184198/vortragsabend-behindertenfeindlichkeit-nicht-nur-am-rechten-
 rand
DTEND;TZID=Europe/Berlin:20260528T193000
DTSTAMP:20260420T123933Z
DTSTART;TZID=Europe/Berlin:20260528T180000
GEO:53.246136;10.409741
LOCATION:Volkshochschule Region Lüneburg\, Haagestr. 4\, Lüneburg
ORGANIZER;CN=Euthanasie-Gedenkstätte Lüneburg:mailto:andrea.kabasci@gedenks
 taette-lueneburg.de
SEQUENCE:0
SUMMARY:Vortragsabend: Behindertenfeindlichkeit – (nicht nur) am rechten Ra
 nd
UID:e_101184198_iv0
URL:http://pages.destination.one/de/lueneburg/streaming/detail/Event/e_1011
 84198/vortragsabend-behindertenfeindlichkeit-nicht-nur-am-rechten-rand
END:VEVENT
BEGIN:VTIMEZONE
TZID:Europe/Berlin
X-LIC-LOCATION:Europe/Berlin
BEGIN:DAYLIGHT
DTSTART:19700329T020000
RRULE:FREQ=YEARLY;BYDAY=-1SU;BYMONTH=3
TZNAME:CEST
TZOFFSETFROM:+0100
TZOFFSETTO:+0200
END:DAYLIGHT
BEGIN:STANDARD
DTSTART:19701025T030000
RRULE:FREQ=YEARLY;BYDAY=-1SU;BYMONTH=10
TZNAME:CET
TZOFFSETFROM:+0200
TZOFFSETTO:+0100
END:STANDARD
END:VTIMEZONE
END:VCALENDAR
