BEGIN:VCALENDAR
VERSION:2.0
PRODID:-//destination.one//NONSGML destination.meta API//DE
X-WR-CALDESC:A calendar powered by destination.meta
X-WR-CALNAME:lueneburg Kalender via destination.meta
BEGIN:VEVENT
CATEGORIES:Vortrag\, Diskussion\, Lesung sonstige
DESCRIPTION:Dr. Carola Rudnick berichtet über den aktuellen Forschungsstand
  über »Euthanasie«-Maßnahmen an Zwangsarbeiter*innen in Lüneburg. Viele Ja
 hre sind Ehrenamtliche der Frage nachgegangen\, ob und wer im Städtischen 
 Krankenhaus ermordet wurde.\n\nmehr Informationen unter http://pages.desti
 nation.one/de/lueneburg/streaming/detail/Event/e_101184208/vortragsabend-z
 wangsarbeit-und-krankenmord
DTEND;TZID=Europe/Berlin:20260611T193000
DTSTAMP:20260422T084037Z
DTSTART;TZID=Europe/Berlin:20260611T180000
GEO:53.246136;10.409741
LOCATION:Volkshochschule Region Lüneburg\, Haagestr. 4\, Lüneburg
ORGANIZER;CN=Euthanasie-Gedenkstätte Lüneburg:mailto:andrea.kabasci@gedenks
 taette-lueneburg.de
SEQUENCE:0
SUMMARY:Vortragsabend: Zwangsarbeit und Krankenmord 
UID:e_101184208_iv0
URL:http://pages.destination.one/de/lueneburg/streaming/detail/Event/e_1011
 84208/vortragsabend-zwangsarbeit-und-krankenmord
END:VEVENT
BEGIN:VTIMEZONE
TZID:Europe/Berlin
X-LIC-LOCATION:Europe/Berlin
BEGIN:DAYLIGHT
DTSTART:19700329T020000
RRULE:FREQ=YEARLY;BYDAY=-1SU;BYMONTH=3
TZNAME:CEST
TZOFFSETFROM:+0100
TZOFFSETTO:+0200
END:DAYLIGHT
BEGIN:STANDARD
DTSTART:19701025T030000
RRULE:FREQ=YEARLY;BYDAY=-1SU;BYMONTH=10
TZNAME:CET
TZOFFSETFROM:+0200
TZOFFSETTO:+0100
END:STANDARD
END:VTIMEZONE
END:VCALENDAR
