BEGIN:VCALENDAR
VERSION:2.0
PRODID:-//destination.one//NONSGML destination.meta API//DE
X-WR-CALDESC:A calendar powered by destination.meta
X-WR-CALNAME:lueneburg Kalender via destination.meta
BEGIN:VEVENT
CATEGORIES:... zu Fuß
CATEGORIES:Stadtrundgang
DESCRIPTION:Erkunden Sie die Salz- und Hansestadt Lüneburg bei einem Klassi
 schen Rundgang.\n\nmehr Informationen unter http://pages.destination.one/d
 e/lueneburg/streaming/detail/Event/e_101186227/klassischer-rundgang-11-00-
 uhr
DTEND;TZID=Europe/Berlin:20260117T123000
DTSTAMP:20260422T085241Z
DTSTART;TZID=Europe/Berlin:20260117T110000
GEO:53.250108;10.407422
LOCATION:Tourist-Information Lüneburg\, Rathaus/Am Markt\, Lüneburg
ORGANIZER;CN=Lüneburg Marketing GmbH:mailto:touristik@lueneburg.info
RRULE:FREQ=WEEKLY;UNTIL=20260306T113000;BYDAY=WE,SA
SEQUENCE:0
SUMMARY:Klassischer Rundgang 11:00 Uhr
UID:e_101186227_iv0
URL:http://pages.destination.one/de/lueneburg/streaming/detail/Event/e_1011
 86227/klassischer-rundgang-11-00-uhr
END:VEVENT
BEGIN:VEVENT
CATEGORIES:... zu Fuß
CATEGORIES:Stadtrundgang
DESCRIPTION:Erkunden Sie die Salz- und Hansestadt Lüneburg bei einem Klassi
 schen Rundgang.\n\nmehr Informationen unter http://pages.destination.one/d
 e/lueneburg/streaming/detail/Event/e_101186227/klassischer-rundgang-11-00-
 uhr
DTEND;TZID=Europe/Berlin:20260308T123000
DTSTAMP:20260422T085241Z
DTSTART;TZID=Europe/Berlin:20260308T110000
GEO:53.250108;10.407422
LOCATION:Tourist-Information Lüneburg\, Rathaus/Am Markt\, Lüneburg
ORGANIZER;CN=Lüneburg Marketing GmbH:mailto:touristik@lueneburg.info
SEQUENCE:0
SUMMARY:Klassischer Rundgang 11:00 Uhr
UID:e_101186227_iv1
URL:http://pages.destination.one/de/lueneburg/streaming/detail/Event/e_1011
 86227/klassischer-rundgang-11-00-uhr
END:VEVENT
BEGIN:VEVENT
CATEGORIES:... zu Fuß
CATEGORIES:Stadtrundgang
DESCRIPTION:Erkunden Sie die Salz- und Hansestadt Lüneburg bei einem Klassi
 schen Rundgang.\n\nmehr Informationen unter http://pages.destination.one/d
 e/lueneburg/streaming/detail/Event/e_101186227/klassischer-rundgang-11-00-
 uhr
DTEND;TZID=Europe/Berlin:20260311T123000
DTSTAMP:20260422T085241Z
DTSTART;TZID=Europe/Berlin:20260311T110000
GEO:53.250108;10.407422
LOCATION:Tourist-Information Lüneburg\, Rathaus/Am Markt\, Lüneburg
ORGANIZER;CN=Lüneburg Marketing GmbH:mailto:touristik@lueneburg.info
RRULE:FREQ=WEEKLY;UNTIL=20260321T113000;BYDAY=WE,SA
SEQUENCE:0
SUMMARY:Klassischer Rundgang 11:00 Uhr
UID:e_101186227_iv2
URL:http://pages.destination.one/de/lueneburg/streaming/detail/Event/e_1011
 86227/klassischer-rundgang-11-00-uhr
END:VEVENT
BEGIN:VEVENT
CATEGORIES:... zu Fuß
CATEGORIES:Stadtrundgang
DESCRIPTION:Erkunden Sie die Salz- und Hansestadt Lüneburg bei einem Klassi
 schen Rundgang.\n\nmehr Informationen unter http://pages.destination.one/d
 e/lueneburg/streaming/detail/Event/e_101186227/klassischer-rundgang-11-00-
 uhr
DTEND;TZID=Europe/Berlin:20260401T113000
DTSTAMP:20260422T085241Z
DTSTART;TZID=Europe/Berlin:20260401T110000
GEO:53.250108;10.407422
LOCATION:Tourist-Information Lüneburg\, Rathaus/Am Markt\, Lüneburg
ORGANIZER;CN=Lüneburg Marketing GmbH:mailto:touristik@lueneburg.info
RRULE:FREQ=DAILY;UNTIL=20261224T103000
SEQUENCE:0
SUMMARY:Klassischer Rundgang 11:00 Uhr
UID:e_101186227_iv3
URL:http://pages.destination.one/de/lueneburg/streaming/detail/Event/e_1011
 86227/klassischer-rundgang-11-00-uhr
END:VEVENT
BEGIN:VEVENT
CATEGORIES:... zu Fuß
CATEGORIES:Stadtrundgang
DESCRIPTION:Erkunden Sie die Salz- und Hansestadt Lüneburg bei einem Klassi
 schen Rundgang.\n\nmehr Informationen unter http://pages.destination.one/d
 e/lueneburg/streaming/detail/Event/e_101186227/klassischer-rundgang-11-00-
 uhr
DTEND;TZID=Europe/Berlin:20261227T113000
DTSTAMP:20260422T085241Z
DTSTART;TZID=Europe/Berlin:20261227T110000
GEO:53.250108;10.407422
LOCATION:Tourist-Information Lüneburg\, Rathaus/Am Markt\, Lüneburg
ORGANIZER;CN=Lüneburg Marketing GmbH:mailto:touristik@lueneburg.info
RRULE:FREQ=DAILY;UNTIL=20261230T103000
SEQUENCE:0
SUMMARY:Klassischer Rundgang 11:00 Uhr
UID:e_101186227_iv4
URL:http://pages.destination.one/de/lueneburg/streaming/detail/Event/e_1011
 86227/klassischer-rundgang-11-00-uhr
END:VEVENT
BEGIN:VTIMEZONE
TZID:Europe/Berlin
X-LIC-LOCATION:Europe/Berlin
BEGIN:DAYLIGHT
DTSTART:19700329T020000
RRULE:FREQ=YEARLY;BYDAY=-1SU;BYMONTH=3
TZNAME:CEST
TZOFFSETFROM:+0100
TZOFFSETTO:+0200
END:DAYLIGHT
BEGIN:STANDARD
DTSTART:19701025T030000
RRULE:FREQ=YEARLY;BYDAY=-1SU;BYMONTH=10
TZNAME:CET
TZOFFSETFROM:+0200
TZOFFSETTO:+0100
END:STANDARD
END:VTIMEZONE
END:VCALENDAR
