BEGIN:VCALENDAR
VERSION:2.0
PRODID:-//destination.one//NONSGML destination.meta API//DE
X-WR-CALDESC:A calendar powered by destination.meta
X-WR-CALNAME:lueneburg Kalender via destination.meta
BEGIN:VEVENT
CATEGORIES:... zu Fuß
CATEGORIES:Stadtrundgang
DESCRIPTION:Erkunden Sie die Salz- und Hansestadt Lüneburg bei einem Klassi
 schen Rundgang.\n\nmehr Informationen unter http://pages.destination.one/d
 e/lueneburg/streaming/detail/Event/e_101186264/klassischer-rundgang-14-00-
 uhr
DTEND;TZID=Europe/Berlin:20260117T153000
DTSTAMP:20260420T140057Z
DTSTART;TZID=Europe/Berlin:20260117T140000
GEO:53.250108;10.407422
LOCATION:Tourist-Information Lüneburg\, Rathaus/Am Markt\, Lüneburg
ORGANIZER;CN=Lüneburg Marketing GmbH:mailto:touristik@lueneburg.info
RRULE:FREQ=WEEKLY;UNTIL=20260306T143000;BYDAY=SA
SEQUENCE:0
SUMMARY:Klassischer Rundgang 14:00 Uhr
UID:e_101186264_iv0
URL:http://pages.destination.one/de/lueneburg/streaming/detail/Event/e_1011
 86264/klassischer-rundgang-14-00-uhr
END:VEVENT
BEGIN:VEVENT
CATEGORIES:... zu Fuß
CATEGORIES:Stadtrundgang
DESCRIPTION:Erkunden Sie die Salz- und Hansestadt Lüneburg bei einem Klassi
 schen Rundgang.\n\nmehr Informationen unter http://pages.destination.one/d
 e/lueneburg/streaming/detail/Event/e_101186264/klassischer-rundgang-14-00-
 uhr
DTEND;TZID=Europe/Berlin:20260307T153000
DTSTAMP:20260420T140057Z
DTSTART;TZID=Europe/Berlin:20260307T140000
GEO:53.250108;10.407422
LOCATION:Tourist-Information Lüneburg\, Rathaus/Am Markt\, Lüneburg
ORGANIZER;CN=Lüneburg Marketing GmbH:mailto:touristik@lueneburg.info
SEQUENCE:0
SUMMARY:Klassischer Rundgang 14:00 Uhr
UID:e_101186264_iv1
URL:http://pages.destination.one/de/lueneburg/streaming/detail/Event/e_1011
 86264/klassischer-rundgang-14-00-uhr
END:VEVENT
BEGIN:VEVENT
CATEGORIES:... zu Fuß
CATEGORIES:Stadtrundgang
DESCRIPTION:Erkunden Sie die Salz- und Hansestadt Lüneburg bei einem Klassi
 schen Rundgang.\n\nmehr Informationen unter http://pages.destination.one/d
 e/lueneburg/streaming/detail/Event/e_101186264/klassischer-rundgang-14-00-
 uhr
DTEND;TZID=Europe/Berlin:20260311T153000
DTSTAMP:20260420T140057Z
DTSTART;TZID=Europe/Berlin:20260311T140000
GEO:53.250108;10.407422
LOCATION:Tourist-Information Lüneburg\, Rathaus/Am Markt\, Lüneburg
ORGANIZER;CN=Lüneburg Marketing GmbH:mailto:touristik@lueneburg.info
RRULE:FREQ=WEEKLY;UNTIL=20260321T143000;BYDAY=SA
SEQUENCE:0
SUMMARY:Klassischer Rundgang 14:00 Uhr
UID:e_101186264_iv2
URL:http://pages.destination.one/de/lueneburg/streaming/detail/Event/e_1011
 86264/klassischer-rundgang-14-00-uhr
END:VEVENT
BEGIN:VEVENT
CATEGORIES:... zu Fuß
CATEGORIES:Stadtrundgang
DESCRIPTION:Erkunden Sie die Salz- und Hansestadt Lüneburg bei einem Klassi
 schen Rundgang.\n\nmehr Informationen unter http://pages.destination.one/d
 e/lueneburg/streaming/detail/Event/e_101186264/klassischer-rundgang-14-00-
 uhr
DTEND;TZID=Europe/Berlin:20260401T153000
DTSTAMP:20260420T140057Z
DTSTART;TZID=Europe/Berlin:20260401T140000
GEO:53.250108;10.407422
LOCATION:Tourist-Information Lüneburg\, Rathaus/Am Markt\, Lüneburg
ORGANIZER;CN=Lüneburg Marketing GmbH:mailto:touristik@lueneburg.info
RRULE:FREQ=DAILY;UNTIL=20261224T143000
SEQUENCE:0
SUMMARY:Klassischer Rundgang 14:00 Uhr
UID:e_101186264_iv3
URL:http://pages.destination.one/de/lueneburg/streaming/detail/Event/e_1011
 86264/klassischer-rundgang-14-00-uhr
END:VEVENT
BEGIN:VEVENT
CATEGORIES:... zu Fuß
CATEGORIES:Stadtrundgang
DESCRIPTION:Erkunden Sie die Salz- und Hansestadt Lüneburg bei einem Klassi
 schen Rundgang.\n\nmehr Informationen unter http://pages.destination.one/d
 e/lueneburg/streaming/detail/Event/e_101186264/klassischer-rundgang-14-00-
 uhr
DTEND;TZID=Europe/Berlin:20261227T153000
DTSTAMP:20260420T140057Z
DTSTART;TZID=Europe/Berlin:20261227T140000
GEO:53.250108;10.407422
LOCATION:Tourist-Information Lüneburg\, Rathaus/Am Markt\, Lüneburg
ORGANIZER;CN=Lüneburg Marketing GmbH:mailto:touristik@lueneburg.info
RRULE:FREQ=DAILY;UNTIL=20261230T143000
SEQUENCE:0
SUMMARY:Klassischer Rundgang 14:00 Uhr
UID:e_101186264_iv4
URL:http://pages.destination.one/de/lueneburg/streaming/detail/Event/e_1011
 86264/klassischer-rundgang-14-00-uhr
END:VEVENT
BEGIN:VTIMEZONE
TZID:Europe/Berlin
X-LIC-LOCATION:Europe/Berlin
BEGIN:DAYLIGHT
DTSTART:19700329T020000
RRULE:FREQ=YEARLY;BYDAY=-1SU;BYMONTH=3
TZNAME:CEST
TZOFFSETFROM:+0100
TZOFFSETTO:+0200
END:DAYLIGHT
BEGIN:STANDARD
DTSTART:19701025T030000
RRULE:FREQ=YEARLY;BYDAY=-1SU;BYMONTH=10
TZNAME:CET
TZOFFSETFROM:+0200
TZOFFSETTO:+0100
END:STANDARD
END:VTIMEZONE
END:VCALENDAR
