BEGIN:VCALENDAR
VERSION:2.0
PRODID:-//destination.one//NONSGML destination.meta API//DE
X-WR-CALDESC:A calendar powered by destination.meta
X-WR-CALNAME:lueneburg Kalender via destination.meta
BEGIN:VEVENT
CATEGORIES:Comedy
DESCRIPTION:Wir leben in einer Welt\, in der die Toaster inzwischen smarter
  sind als wir\, in der wir joggen gehen\, um unsere Fitnessarmbänder nicht
  zu enttäuschen\, und in der wir zur KI netter sind als zu unseren Liebste
 n! Kurz: Ja\, wir sind alle herrlich verrückt geworden! Nur: Wie soll man 
 daraus noch Comedy machen\, wenn selbst die Realität schon absurder ist al
 s jeder Witz?\n\nmehr Informationen unter http://pages.destination.one/de/
 lueneburg/streaming/detail/Event/e_101187485/ralf-schmitz-schmitzm-n
DTEND;TZID=Europe/Berlin:20261128T223000
DTSTAMP:20260421T075943Z
DTSTART;TZID=Europe/Berlin:20261128T200000
GEO:53.272907;10.423392
LOCATION:LKH Arena\, Lüner Rennbahn 5\, Lüneburg
ORGANIZER;CN=MITUNSKANNMAN.REDEN. GmbH & Co. KG:mailto:marketing@mitunskann
 manreden.de
SEQUENCE:0
SUMMARY: Ralf Schmitz- Schmitzmän 
UID:e_101187485_iv0
URL:http://pages.destination.one/de/lueneburg/streaming/detail/Event/e_1011
 87485/ralf-schmitz-schmitzm-n
END:VEVENT
BEGIN:VTIMEZONE
TZID:Europe/Berlin
X-LIC-LOCATION:Europe/Berlin
BEGIN:DAYLIGHT
DTSTART:19700329T020000
RRULE:FREQ=YEARLY;BYDAY=-1SU;BYMONTH=3
TZNAME:CEST
TZOFFSETFROM:+0100
TZOFFSETTO:+0200
END:DAYLIGHT
BEGIN:STANDARD
DTSTART:19701025T030000
RRULE:FREQ=YEARLY;BYDAY=-1SU;BYMONTH=10
TZNAME:CET
TZOFFSETFROM:+0200
TZOFFSETTO:+0100
END:STANDARD
END:VTIMEZONE
END:VCALENDAR
