BEGIN:VCALENDAR
VERSION:2.0
PRODID:-//destination.one//NONSGML destination.meta API//DE
X-WR-CALDESC:A calendar powered by destination.meta
X-WR-CALNAME:lueneburg Kalender via destination.meta
BEGIN:VEVENT
CATEGORIES:Führung
CATEGORIES:Historische Führung
CATEGORIES:Themenführung
DESCRIPTION:Eines der schönsten Rathäuser Norddeutschlands und ältesten Geb
 äude Lüneburgs – das Rathaus ist eine absolute Empfehlung für jeden Besuch
 er der Stadt.\n\nmehr Informationen unter http://pages.destination.one/de/
 lueneburg/streaming/detail/Event/e_101187777/rathausf-hrung-april-dezember
DTEND;TZID=Europe/Berlin:20260401T120000
DTSTAMP:20260421T091110Z
DTSTART;TZID=Europe/Berlin:20260401T110000
GEO:53.250108;10.407422
LOCATION:Tourist-Information Lüneburg\, Rathaus/Am Markt\, Lüneburg
ORGANIZER;CN=Lüneburg Marketing GmbH:mailto:touristik@lueneburg.info
RRULE:FREQ=WEEKLY;UNTIL=20260826T100000;BYDAY=TU,WE,TH,FR,SA,SU
SEQUENCE:0
SUMMARY:Rathausführung April - Dezember
UID:e_101187777_iv0
URL:http://pages.destination.one/de/lueneburg/streaming/detail/Event/e_1011
 87777/rathausf-hrung-april-dezember
END:VEVENT
BEGIN:VEVENT
CATEGORIES:Führung
CATEGORIES:Historische Führung
CATEGORIES:Themenführung
DESCRIPTION:Eines der schönsten Rathäuser Norddeutschlands und ältesten Geb
 äude Lüneburgs – das Rathaus ist eine absolute Empfehlung für jeden Besuch
 er der Stadt.\n\nmehr Informationen unter http://pages.destination.one/de/
 lueneburg/streaming/detail/Event/e_101187777/rathausf-hrung-april-dezember
DTEND;TZID=Europe/Berlin:20260401T150000
DTSTAMP:20260421T091110Z
DTSTART;TZID=Europe/Berlin:20260401T140000
GEO:53.250108;10.407422
LOCATION:Tourist-Information Lüneburg\, Rathaus/Am Markt\, Lüneburg
ORGANIZER;CN=Lüneburg Marketing GmbH:mailto:touristik@lueneburg.info
RRULE:FREQ=WEEKLY;UNTIL=20260826T130000;BYDAY=TU,WE,TH,FR,SA,SU
SEQUENCE:0
SUMMARY:Rathausführung April - Dezember
UID:e_101187777_iv1
URL:http://pages.destination.one/de/lueneburg/streaming/detail/Event/e_1011
 87777/rathausf-hrung-april-dezember
END:VEVENT
BEGIN:VEVENT
CATEGORIES:Führung
CATEGORIES:Historische Führung
CATEGORIES:Themenführung
DESCRIPTION:Eines der schönsten Rathäuser Norddeutschlands und ältesten Geb
 äude Lüneburgs – das Rathaus ist eine absolute Empfehlung für jeden Besuch
 er der Stadt.\n\nmehr Informationen unter http://pages.destination.one/de/
 lueneburg/streaming/detail/Event/e_101187777/rathausf-hrung-april-dezember
DTEND;TZID=Europe/Berlin:20260428T170000
DTSTAMP:20260421T091110Z
DTSTART;TZID=Europe/Berlin:20260428T160000
GEO:53.250108;10.407422
LOCATION:Tourist-Information Lüneburg\, Rathaus/Am Markt\, Lüneburg
ORGANIZER;CN=Lüneburg Marketing GmbH:mailto:touristik@lueneburg.info
RRULE:FREQ=WEEKLY;UNTIL=20260826T150000;BYDAY=TU,WE,TH,FR,SA
SEQUENCE:0
SUMMARY:Rathausführung April - Dezember
UID:e_101187777_iv2
URL:http://pages.destination.one/de/lueneburg/streaming/detail/Event/e_1011
 87777/rathausf-hrung-april-dezember
END:VEVENT
BEGIN:VEVENT
CATEGORIES:Führung
CATEGORIES:Historische Führung
CATEGORIES:Themenführung
DESCRIPTION:Eines der schönsten Rathäuser Norddeutschlands und ältesten Geb
 äude Lüneburgs – das Rathaus ist eine absolute Empfehlung für jeden Besuch
 er der Stadt.\n\nmehr Informationen unter http://pages.destination.one/de/
 lueneburg/streaming/detail/Event/e_101187777/rathausf-hrung-april-dezember
DTEND;TZID=Europe/Berlin:20260829T120000
DTSTAMP:20260421T091110Z
DTSTART;TZID=Europe/Berlin:20260829T110000
GEO:53.250108;10.407422
LOCATION:Tourist-Information Lüneburg\, Rathaus/Am Markt\, Lüneburg
ORGANIZER;CN=Lüneburg Marketing GmbH:mailto:touristik@lueneburg.info
RRULE:FREQ=WEEKLY;UNTIL=20260910T100000;BYDAY=TU,WE,TH,FR,SA,SU
SEQUENCE:0
SUMMARY:Rathausführung April - Dezember
UID:e_101187777_iv3
URL:http://pages.destination.one/de/lueneburg/streaming/detail/Event/e_1011
 87777/rathausf-hrung-april-dezember
END:VEVENT
BEGIN:VEVENT
CATEGORIES:Führung
CATEGORIES:Historische Führung
CATEGORIES:Themenführung
DESCRIPTION:Eines der schönsten Rathäuser Norddeutschlands und ältesten Geb
 äude Lüneburgs – das Rathaus ist eine absolute Empfehlung für jeden Besuch
 er der Stadt.\n\nmehr Informationen unter http://pages.destination.one/de/
 lueneburg/streaming/detail/Event/e_101187777/rathausf-hrung-april-dezember
DTEND;TZID=Europe/Berlin:20260829T150000
DTSTAMP:20260421T091110Z
DTSTART;TZID=Europe/Berlin:20260829T140000
GEO:53.250108;10.407422
LOCATION:Tourist-Information Lüneburg\, Rathaus/Am Markt\, Lüneburg
ORGANIZER;CN=Lüneburg Marketing GmbH:mailto:touristik@lueneburg.info
RRULE:FREQ=WEEKLY;UNTIL=20260910T130000;BYDAY=TU,WE,TH,FR,SA,SU
SEQUENCE:0
SUMMARY:Rathausführung April - Dezember
UID:e_101187777_iv4
URL:http://pages.destination.one/de/lueneburg/streaming/detail/Event/e_1011
 87777/rathausf-hrung-april-dezember
END:VEVENT
BEGIN:VEVENT
CATEGORIES:Führung
CATEGORIES:Historische Führung
CATEGORIES:Themenführung
DESCRIPTION:Eines der schönsten Rathäuser Norddeutschlands und ältesten Geb
 äude Lüneburgs – das Rathaus ist eine absolute Empfehlung für jeden Besuch
 er der Stadt.\n\nmehr Informationen unter http://pages.destination.one/de/
 lueneburg/streaming/detail/Event/e_101187777/rathausf-hrung-april-dezember
DTEND;TZID=Europe/Berlin:20260829T170000
DTSTAMP:20260421T091110Z
DTSTART;TZID=Europe/Berlin:20260829T160000
GEO:53.250108;10.407422
LOCATION:Tourist-Information Lüneburg\, Rathaus/Am Markt\, Lüneburg
ORGANIZER;CN=Lüneburg Marketing GmbH:mailto:touristik@lueneburg.info
RRULE:FREQ=WEEKLY;UNTIL=20260910T150000;BYDAY=TU,WE,TH,FR,SA
SEQUENCE:0
SUMMARY:Rathausführung April - Dezember
UID:e_101187777_iv5
URL:http://pages.destination.one/de/lueneburg/streaming/detail/Event/e_1011
 87777/rathausf-hrung-april-dezember
END:VEVENT
BEGIN:VEVENT
CATEGORIES:Führung
CATEGORIES:Historische Führung
CATEGORIES:Themenführung
DESCRIPTION:Eines der schönsten Rathäuser Norddeutschlands und ältesten Geb
 äude Lüneburgs – das Rathaus ist eine absolute Empfehlung für jeden Besuch
 er der Stadt.\n\nmehr Informationen unter http://pages.destination.one/de/
 lueneburg/streaming/detail/Event/e_101187777/rathausf-hrung-april-dezember
DTEND;TZID=Europe/Berlin:20260915T120000
DTSTAMP:20260421T091110Z
DTSTART;TZID=Europe/Berlin:20260915T110000
GEO:53.250108;10.407422
LOCATION:Tourist-Information Lüneburg\, Rathaus/Am Markt\, Lüneburg
ORGANIZER;CN=Lüneburg Marketing GmbH:mailto:touristik@lueneburg.info
RRULE:FREQ=WEEKLY;UNTIL=20260923T100000;BYDAY=TU,WE,TH,FR,SA,SU
SEQUENCE:0
SUMMARY:Rathausführung April - Dezember
UID:e_101187777_iv6
URL:http://pages.destination.one/de/lueneburg/streaming/detail/Event/e_1011
 87777/rathausf-hrung-april-dezember
END:VEVENT
BEGIN:VEVENT
CATEGORIES:Führung
CATEGORIES:Historische Führung
CATEGORIES:Themenführung
DESCRIPTION:Eines der schönsten Rathäuser Norddeutschlands und ältesten Geb
 äude Lüneburgs – das Rathaus ist eine absolute Empfehlung für jeden Besuch
 er der Stadt.\n\nmehr Informationen unter http://pages.destination.one/de/
 lueneburg/streaming/detail/Event/e_101187777/rathausf-hrung-april-dezember
DTEND;TZID=Europe/Berlin:20260915T150000
DTSTAMP:20260421T091110Z
DTSTART;TZID=Europe/Berlin:20260915T140000
GEO:53.250108;10.407422
LOCATION:Tourist-Information Lüneburg\, Rathaus/Am Markt\, Lüneburg
ORGANIZER;CN=Lüneburg Marketing GmbH:mailto:touristik@lueneburg.info
RRULE:FREQ=WEEKLY;UNTIL=20260923T130000;BYDAY=TU,WE,TH,FR,SA,SU
SEQUENCE:0
SUMMARY:Rathausführung April - Dezember
UID:e_101187777_iv7
URL:http://pages.destination.one/de/lueneburg/streaming/detail/Event/e_1011
 87777/rathausf-hrung-april-dezember
END:VEVENT
BEGIN:VEVENT
CATEGORIES:Führung
CATEGORIES:Historische Führung
CATEGORIES:Themenführung
DESCRIPTION:Eines der schönsten Rathäuser Norddeutschlands und ältesten Geb
 äude Lüneburgs – das Rathaus ist eine absolute Empfehlung für jeden Besuch
 er der Stadt.\n\nmehr Informationen unter http://pages.destination.one/de/
 lueneburg/streaming/detail/Event/e_101187777/rathausf-hrung-april-dezember
DTEND;TZID=Europe/Berlin:20260915T170000
DTSTAMP:20260421T091110Z
DTSTART;TZID=Europe/Berlin:20260915T160000
GEO:53.250108;10.407422
LOCATION:Tourist-Information Lüneburg\, Rathaus/Am Markt\, Lüneburg
ORGANIZER;CN=Lüneburg Marketing GmbH:mailto:touristik@lueneburg.info
RRULE:FREQ=WEEKLY;UNTIL=20260923T150000;BYDAY=TU,WE,TH,FR,SA
SEQUENCE:0
SUMMARY:Rathausführung April - Dezember
UID:e_101187777_iv8
URL:http://pages.destination.one/de/lueneburg/streaming/detail/Event/e_1011
 87777/rathausf-hrung-april-dezember
END:VEVENT
BEGIN:VEVENT
CATEGORIES:Führung
CATEGORIES:Historische Führung
CATEGORIES:Themenführung
DESCRIPTION:Eines der schönsten Rathäuser Norddeutschlands und ältesten Geb
 äude Lüneburgs – das Rathaus ist eine absolute Empfehlung für jeden Besuch
 er der Stadt.\n\nmehr Informationen unter http://pages.destination.one/de/
 lueneburg/streaming/detail/Event/e_101187777/rathausf-hrung-april-dezember
DTEND;TZID=Europe/Berlin:20260929T120000
DTSTAMP:20260421T091110Z
DTSTART;TZID=Europe/Berlin:20260929T110000
GEO:53.250108;10.407422
LOCATION:Tourist-Information Lüneburg\, Rathaus/Am Markt\, Lüneburg
ORGANIZER;CN=Lüneburg Marketing GmbH:mailto:touristik@lueneburg.info
RRULE:FREQ=WEEKLY;UNTIL=20261224T110000;BYDAY=TU,WE,TH,FR,SA,SU
SEQUENCE:0
SUMMARY:Rathausführung April - Dezember
UID:e_101187777_iv9
URL:http://pages.destination.one/de/lueneburg/streaming/detail/Event/e_1011
 87777/rathausf-hrung-april-dezember
END:VEVENT
BEGIN:VEVENT
CATEGORIES:Führung
CATEGORIES:Historische Führung
CATEGORIES:Themenführung
DESCRIPTION:Eines der schönsten Rathäuser Norddeutschlands und ältesten Geb
 äude Lüneburgs – das Rathaus ist eine absolute Empfehlung für jeden Besuch
 er der Stadt.\n\nmehr Informationen unter http://pages.destination.one/de/
 lueneburg/streaming/detail/Event/e_101187777/rathausf-hrung-april-dezember
DTEND;TZID=Europe/Berlin:20260929T150000
DTSTAMP:20260421T091110Z
DTSTART;TZID=Europe/Berlin:20260929T140000
GEO:53.250108;10.407422
LOCATION:Tourist-Information Lüneburg\, Rathaus/Am Markt\, Lüneburg
ORGANIZER;CN=Lüneburg Marketing GmbH:mailto:touristik@lueneburg.info
RRULE:FREQ=WEEKLY;UNTIL=20261224T140000;BYDAY=TU,WE,TH,FR,SA,SU
SEQUENCE:0
SUMMARY:Rathausführung April - Dezember
UID:e_101187777_iv10
URL:http://pages.destination.one/de/lueneburg/streaming/detail/Event/e_1011
 87777/rathausf-hrung-april-dezember
END:VEVENT
BEGIN:VEVENT
CATEGORIES:Führung
CATEGORIES:Historische Führung
CATEGORIES:Themenführung
DESCRIPTION:Eines der schönsten Rathäuser Norddeutschlands und ältesten Geb
 äude Lüneburgs – das Rathaus ist eine absolute Empfehlung für jeden Besuch
 er der Stadt.\n\nmehr Informationen unter http://pages.destination.one/de/
 lueneburg/streaming/detail/Event/e_101187777/rathausf-hrung-april-dezember
DTEND;TZID=Europe/Berlin:20260929T170000
DTSTAMP:20260421T091110Z
DTSTART;TZID=Europe/Berlin:20260929T160000
GEO:53.250108;10.407422
LOCATION:Tourist-Information Lüneburg\, Rathaus/Am Markt\, Lüneburg
ORGANIZER;CN=Lüneburg Marketing GmbH:mailto:touristik@lueneburg.info
RRULE:FREQ=WEEKLY;UNTIL=20261230T160000;BYDAY=TU,WE,TH,FR,SA
SEQUENCE:0
SUMMARY:Rathausführung April - Dezember
UID:e_101187777_iv11
URL:http://pages.destination.one/de/lueneburg/streaming/detail/Event/e_1011
 87777/rathausf-hrung-april-dezember
END:VEVENT
BEGIN:VEVENT
CATEGORIES:Führung
CATEGORIES:Historische Führung
CATEGORIES:Themenführung
DESCRIPTION:Eines der schönsten Rathäuser Norddeutschlands und ältesten Geb
 äude Lüneburgs – das Rathaus ist eine absolute Empfehlung für jeden Besuch
 er der Stadt.\n\nmehr Informationen unter http://pages.destination.one/de/
 lueneburg/streaming/detail/Event/e_101187777/rathausf-hrung-april-dezember
DTEND;TZID=Europe/Berlin:20261227T120000
DTSTAMP:20260421T091110Z
DTSTART;TZID=Europe/Berlin:20261227T110000
GEO:53.250108;10.407422
LOCATION:Tourist-Information Lüneburg\, Rathaus/Am Markt\, Lüneburg
ORGANIZER;CN=Lüneburg Marketing GmbH:mailto:touristik@lueneburg.info
RRULE:FREQ=WEEKLY;UNTIL=20261230T110000;BYDAY=TU,WE,TH,FR,SA,SU
SEQUENCE:0
SUMMARY:Rathausführung April - Dezember
UID:e_101187777_iv12
URL:http://pages.destination.one/de/lueneburg/streaming/detail/Event/e_1011
 87777/rathausf-hrung-april-dezember
END:VEVENT
BEGIN:VEVENT
CATEGORIES:Führung
CATEGORIES:Historische Führung
CATEGORIES:Themenführung
DESCRIPTION:Eines der schönsten Rathäuser Norddeutschlands und ältesten Geb
 äude Lüneburgs – das Rathaus ist eine absolute Empfehlung für jeden Besuch
 er der Stadt.\n\nmehr Informationen unter http://pages.destination.one/de/
 lueneburg/streaming/detail/Event/e_101187777/rathausf-hrung-april-dezember
DTEND;TZID=Europe/Berlin:20261227T150000
DTSTAMP:20260421T091110Z
DTSTART;TZID=Europe/Berlin:20261227T140000
GEO:53.250108;10.407422
LOCATION:Tourist-Information Lüneburg\, Rathaus/Am Markt\, Lüneburg
ORGANIZER;CN=Lüneburg Marketing GmbH:mailto:touristik@lueneburg.info
RRULE:FREQ=WEEKLY;UNTIL=20261230T140000;BYDAY=TU,WE,TH,FR,SA,SU
SEQUENCE:0
SUMMARY:Rathausführung April - Dezember
UID:e_101187777_iv13
URL:http://pages.destination.one/de/lueneburg/streaming/detail/Event/e_1011
 87777/rathausf-hrung-april-dezember
END:VEVENT
BEGIN:VTIMEZONE
TZID:Europe/Berlin
X-LIC-LOCATION:Europe/Berlin
BEGIN:DAYLIGHT
DTSTART:19700329T020000
RRULE:FREQ=YEARLY;BYDAY=-1SU;BYMONTH=3
TZNAME:CEST
TZOFFSETFROM:+0100
TZOFFSETTO:+0200
END:DAYLIGHT
BEGIN:STANDARD
DTSTART:19701025T030000
RRULE:FREQ=YEARLY;BYDAY=-1SU;BYMONTH=10
TZNAME:CET
TZOFFSETFROM:+0200
TZOFFSETTO:+0100
END:STANDARD
END:VTIMEZONE
END:VCALENDAR
