BEGIN:VCALENDAR
VERSION:2.0
PRODID:-//destination.one//NONSGML destination.meta API//DE
X-WR-CALDESC:A calendar powered by destination.meta
X-WR-CALNAME:lueneburg Kalender via destination.meta
BEGIN:VEVENT
CATEGORIES:Familien/Kinder sonstige
CATEGORIES:Ferienprogramm
CATEGORIES:Kindertag
CATEGORIES:Sport sonstige
CATEGORIES:Sportkurs
DESCRIPTION:VfL Wolfsburg Mädchen-Sommerferiencamp beim JFV Lüneburg\nMit P
 ower in die Ferien\n\nmehr Informationen unter http://pages.destination.on
 e/de/lueneburg/streaming/detail/Event/e_101190885/m-dchenfussball-sommerfe
 rien-camp-mit-vfl-wolfsburg-beim-jfv-l-neburg-e-v
DTEND;TZID=Europe/Berlin:20260703T150000
DTSTAMP:20260422T085241Z
DTSTART;TZID=Europe/Berlin:20260702T093000
GEO:53.246555;10.394279
LOCATION:Sülzwiesen Lüneburg\, Schnellenberger Weg 109\, Lüneburg
ORGANIZER;CN=JFV Lüneburg:mailto:Kjell.kietzmann@web.de
SEQUENCE:0
SUMMARY:MÄDCHENFUSSBALL SOMMERFERIEN-CAMP MIT VFL WOLFSBURG BEIM JFV LÜNEBU
 RG E.V.
UID:e_101190885_iv0
URL:http://pages.destination.one/de/lueneburg/streaming/detail/Event/e_1011
 90885/m-dchenfussball-sommerferien-camp-mit-vfl-wolfsburg-beim-jfv-l-nebur
 g-e-v
END:VEVENT
BEGIN:VTIMEZONE
TZID:Europe/Berlin
X-LIC-LOCATION:Europe/Berlin
BEGIN:DAYLIGHT
DTSTART:19700329T020000
RRULE:FREQ=YEARLY;BYDAY=-1SU;BYMONTH=3
TZNAME:CEST
TZOFFSETFROM:+0100
TZOFFSETTO:+0200
END:DAYLIGHT
BEGIN:STANDARD
DTSTART:19701025T030000
RRULE:FREQ=YEARLY;BYDAY=-1SU;BYMONTH=10
TZNAME:CET
TZOFFSETFROM:+0200
TZOFFSETTO:+0100
END:STANDARD
END:VTIMEZONE
END:VCALENDAR
