BEGIN:VCALENDAR
VERSION:2.0
PRODID:-//destination.one//NONSGML destination.meta API//DE
X-WR-CALDESC:A calendar powered by destination.meta
X-WR-CALNAME:lueneburg Kalender via destination.meta
BEGIN:VEVENT
CATEGORIES:Bauernmarkt
CATEGORIES:Familien/Kinder sonstige
CATEGORIES:Foodmarket
CATEGORIES:Frühjahrsmarkt
CATEGORIES:Genussmarkt
CATEGORIES:Kulinarik sonstige
CATEGORIES:Kunsthandwerkermarkt
CATEGORIES:Tasting
DESCRIPTION:Ein Sonntag zum Genießen auf dem Hof an den Teichen Tauche ein 
 in die Welt unserer hofeigenen Köstlichkeiten\, entdecke mit Liebe geferti
 gte Delikatessen und Handwerkskunst aus der Region. Hier erwarten Dich ein
 zigartige Gaumenfreuden und kreative Schätze\, die mit Herz und Hand gesch
 affen wurden.\n\nmehr Informationen unter http://pages.destination.one/de/
 lueneburg/streaming/detail/Event/e_101191228/hof-markt-mit-verkostung-und-
 kunsthandwerk
DTEND;TZID=Europe/Berlin:20260315T180000
DTSTAMP:20260421T091223Z
DTSTART;TZID=Europe/Berlin:20260315T120000
GEO:53.213758;10.360192
LOCATION:Hof an den Teichen\, Heiligenthaler Straße 1\, Lüneburg
ORGANIZER;CN=Hof an den Teichen:mailto:info@hofandenteichen.de
SEQUENCE:0
SUMMARY:Hof-Markt mit Verkostung und Kunsthandwerk
UID:e_101191228_iv0
URL:http://pages.destination.one/de/lueneburg/streaming/detail/Event/e_1011
 91228/hof-markt-mit-verkostung-und-kunsthandwerk
END:VEVENT
BEGIN:VEVENT
CATEGORIES:Bauernmarkt
CATEGORIES:Familien/Kinder sonstige
CATEGORIES:Foodmarket
CATEGORIES:Frühjahrsmarkt
CATEGORIES:Genussmarkt
CATEGORIES:Kulinarik sonstige
CATEGORIES:Kunsthandwerkermarkt
CATEGORIES:Tasting
DESCRIPTION:Ein Sonntag zum Genießen auf dem Hof an den Teichen Tauche ein 
 in die Welt unserer hofeigenen Köstlichkeiten\, entdecke mit Liebe geferti
 gte Delikatessen und Handwerkskunst aus der Region. Hier erwarten Dich ein
 zigartige Gaumenfreuden und kreative Schätze\, die mit Herz und Hand gesch
 affen wurden.\n\nmehr Informationen unter http://pages.destination.one/de/
 lueneburg/streaming/detail/Event/e_101191228/hof-markt-mit-verkostung-und-
 kunsthandwerk
DTEND;TZID=Europe/Berlin:20261025T180000
DTSTAMP:20260421T091223Z
DTSTART;TZID=Europe/Berlin:20261025T120000
GEO:53.213758;10.360192
LOCATION:Hof an den Teichen\, Heiligenthaler Straße 1\, Lüneburg
ORGANIZER;CN=Hof an den Teichen:mailto:info@hofandenteichen.de
SEQUENCE:0
SUMMARY:Hof-Markt mit Verkostung und Kunsthandwerk
UID:e_101191228_iv1
URL:http://pages.destination.one/de/lueneburg/streaming/detail/Event/e_1011
 91228/hof-markt-mit-verkostung-und-kunsthandwerk
END:VEVENT
BEGIN:VTIMEZONE
TZID:Europe/Berlin
X-LIC-LOCATION:Europe/Berlin
BEGIN:DAYLIGHT
DTSTART:19700329T020000
RRULE:FREQ=YEARLY;BYDAY=-1SU;BYMONTH=3
TZNAME:CEST
TZOFFSETFROM:+0100
TZOFFSETTO:+0200
END:DAYLIGHT
BEGIN:STANDARD
DTSTART:19701025T030000
RRULE:FREQ=YEARLY;BYDAY=-1SU;BYMONTH=10
TZNAME:CET
TZOFFSETFROM:+0200
TZOFFSETTO:+0100
END:STANDARD
END:VTIMEZONE
END:VCALENDAR
