BEGIN:VCALENDAR
VERSION:2.0
PRODID:-//destination.one//NONSGML destination.meta API//DE
X-WR-CALDESC:A calendar powered by destination.meta
X-WR-CALNAME:lueneburg Kalender via destination.meta
BEGIN:VEVENT
CATEGORIES:... zu Fuß
CATEGORIES:Bildung sonstige
CATEGORIES:Führung
CATEGORIES:Gartenschau
CATEGORIES:Geführter Rundgang
CATEGORIES:Natur und Umwelt
CATEGORIES:Naturerlebnis
CATEGORIES:Naturführung
DESCRIPTION:Die Campus Stiftung beim Hof an den Teichen lädt Dich herzlich 
 zu unseren Waldgarten-Führungen ein! Sie sind interaktiv gestaltet und ric
 hten sich flexibel nach den Bedarfen der Besucher*innen - von interessiert
 en Laien bis hin zu Waldgarten-Expert*innen mit dem Wunsch nach Austausch.
 \n\nmehr Informationen unter http://pages.destination.one/de/lueneburg/str
 eaming/detail/Event/e_101193656/waldgarten-f-hrung-einblicke-in-eine-nachh
 altige-zukunft
DTEND;TZID=Europe/Berlin:20260425T160000
DTSTAMP:20260420T111933Z
DTSTART;TZID=Europe/Berlin:20260425T143000
GEO:53.213758;10.360192
LOCATION:Hof an den Teichen\, Heiligenthaler Straße 1\, Lüneburg
ORGANIZER;CN=Hof an den Teichen:mailto:info@hofandenteichen.de
SEQUENCE:0
SUMMARY:Waldgarten-Führung – Einblicke in eine nachhaltige Zukunft
UID:e_101193656_iv0
URL:http://pages.destination.one/de/lueneburg/streaming/detail/Event/e_1011
 93656/waldgarten-f-hrung-einblicke-in-eine-nachhaltige-zukunft
END:VEVENT
BEGIN:VEVENT
CATEGORIES:... zu Fuß
CATEGORIES:Bildung sonstige
CATEGORIES:Führung
CATEGORIES:Gartenschau
CATEGORIES:Geführter Rundgang
CATEGORIES:Natur und Umwelt
CATEGORIES:Naturerlebnis
CATEGORIES:Naturführung
DESCRIPTION:Die Campus Stiftung beim Hof an den Teichen lädt Dich herzlich 
 zu unseren Waldgarten-Führungen ein! Sie sind interaktiv gestaltet und ric
 hten sich flexibel nach den Bedarfen der Besucher*innen - von interessiert
 en Laien bis hin zu Waldgarten-Expert*innen mit dem Wunsch nach Austausch.
 \n\nmehr Informationen unter http://pages.destination.one/de/lueneburg/str
 eaming/detail/Event/e_101193656/waldgarten-f-hrung-einblicke-in-eine-nachh
 altige-zukunft
DTEND;TZID=Europe/Berlin:20260509T160000
DTSTAMP:20260420T111933Z
DTSTART;TZID=Europe/Berlin:20260509T143000
GEO:53.213758;10.360192
LOCATION:Hof an den Teichen\, Heiligenthaler Straße 1\, Lüneburg
ORGANIZER;CN=Hof an den Teichen:mailto:info@hofandenteichen.de
SEQUENCE:0
SUMMARY:Waldgarten-Führung – Einblicke in eine nachhaltige Zukunft
UID:e_101193656_iv1
URL:http://pages.destination.one/de/lueneburg/streaming/detail/Event/e_1011
 93656/waldgarten-f-hrung-einblicke-in-eine-nachhaltige-zukunft
END:VEVENT
BEGIN:VEVENT
CATEGORIES:... zu Fuß
CATEGORIES:Bildung sonstige
CATEGORIES:Führung
CATEGORIES:Gartenschau
CATEGORIES:Geführter Rundgang
CATEGORIES:Natur und Umwelt
CATEGORIES:Naturerlebnis
CATEGORIES:Naturführung
DESCRIPTION:Die Campus Stiftung beim Hof an den Teichen lädt Dich herzlich 
 zu unseren Waldgarten-Führungen ein! Sie sind interaktiv gestaltet und ric
 hten sich flexibel nach den Bedarfen der Besucher*innen - von interessiert
 en Laien bis hin zu Waldgarten-Expert*innen mit dem Wunsch nach Austausch.
 \n\nmehr Informationen unter http://pages.destination.one/de/lueneburg/str
 eaming/detail/Event/e_101193656/waldgarten-f-hrung-einblicke-in-eine-nachh
 altige-zukunft
DTEND;TZID=Europe/Berlin:20260620T160000
DTSTAMP:20260420T111933Z
DTSTART;TZID=Europe/Berlin:20260620T143000
GEO:53.213758;10.360192
LOCATION:Hof an den Teichen\, Heiligenthaler Straße 1\, Lüneburg
ORGANIZER;CN=Hof an den Teichen:mailto:info@hofandenteichen.de
SEQUENCE:0
SUMMARY:Waldgarten-Führung – Einblicke in eine nachhaltige Zukunft
UID:e_101193656_iv2
URL:http://pages.destination.one/de/lueneburg/streaming/detail/Event/e_1011
 93656/waldgarten-f-hrung-einblicke-in-eine-nachhaltige-zukunft
END:VEVENT
BEGIN:VEVENT
CATEGORIES:... zu Fuß
CATEGORIES:Bildung sonstige
CATEGORIES:Führung
CATEGORIES:Gartenschau
CATEGORIES:Geführter Rundgang
CATEGORIES:Natur und Umwelt
CATEGORIES:Naturerlebnis
CATEGORIES:Naturführung
DESCRIPTION:Die Campus Stiftung beim Hof an den Teichen lädt Dich herzlich 
 zu unseren Waldgarten-Führungen ein! Sie sind interaktiv gestaltet und ric
 hten sich flexibel nach den Bedarfen der Besucher*innen - von interessiert
 en Laien bis hin zu Waldgarten-Expert*innen mit dem Wunsch nach Austausch.
 \n\nmehr Informationen unter http://pages.destination.one/de/lueneburg/str
 eaming/detail/Event/e_101193656/waldgarten-f-hrung-einblicke-in-eine-nachh
 altige-zukunft
DTEND;TZID=Europe/Berlin:20260823T160000
DTSTAMP:20260420T111933Z
DTSTART;TZID=Europe/Berlin:20260823T143000
GEO:53.213758;10.360192
LOCATION:Hof an den Teichen\, Heiligenthaler Straße 1\, Lüneburg
ORGANIZER;CN=Hof an den Teichen:mailto:info@hofandenteichen.de
SEQUENCE:0
SUMMARY:Waldgarten-Führung – Einblicke in eine nachhaltige Zukunft
UID:e_101193656_iv3
URL:http://pages.destination.one/de/lueneburg/streaming/detail/Event/e_1011
 93656/waldgarten-f-hrung-einblicke-in-eine-nachhaltige-zukunft
END:VEVENT
BEGIN:VEVENT
CATEGORIES:... zu Fuß
CATEGORIES:Bildung sonstige
CATEGORIES:Führung
CATEGORIES:Gartenschau
CATEGORIES:Geführter Rundgang
CATEGORIES:Natur und Umwelt
CATEGORIES:Naturerlebnis
CATEGORIES:Naturführung
DESCRIPTION:Die Campus Stiftung beim Hof an den Teichen lädt Dich herzlich 
 zu unseren Waldgarten-Führungen ein! Sie sind interaktiv gestaltet und ric
 hten sich flexibel nach den Bedarfen der Besucher*innen - von interessiert
 en Laien bis hin zu Waldgarten-Expert*innen mit dem Wunsch nach Austausch.
 \n\nmehr Informationen unter http://pages.destination.one/de/lueneburg/str
 eaming/detail/Event/e_101193656/waldgarten-f-hrung-einblicke-in-eine-nachh
 altige-zukunft
DTEND;TZID=Europe/Berlin:20260913T160000
DTSTAMP:20260420T111933Z
DTSTART;TZID=Europe/Berlin:20260913T143000
GEO:53.213758;10.360192
LOCATION:Hof an den Teichen\, Heiligenthaler Straße 1\, Lüneburg
ORGANIZER;CN=Hof an den Teichen:mailto:info@hofandenteichen.de
SEQUENCE:0
SUMMARY:Waldgarten-Führung – Einblicke in eine nachhaltige Zukunft
UID:e_101193656_iv4
URL:http://pages.destination.one/de/lueneburg/streaming/detail/Event/e_1011
 93656/waldgarten-f-hrung-einblicke-in-eine-nachhaltige-zukunft
END:VEVENT
BEGIN:VTIMEZONE
TZID:Europe/Berlin
X-LIC-LOCATION:Europe/Berlin
BEGIN:DAYLIGHT
DTSTART:19700329T020000
RRULE:FREQ=YEARLY;BYDAY=-1SU;BYMONTH=3
TZNAME:CEST
TZOFFSETFROM:+0100
TZOFFSETTO:+0200
END:DAYLIGHT
BEGIN:STANDARD
DTSTART:19701025T030000
RRULE:FREQ=YEARLY;BYDAY=-1SU;BYMONTH=10
TZNAME:CET
TZOFFSETFROM:+0200
TZOFFSETTO:+0100
END:STANDARD
END:VTIMEZONE
END:VCALENDAR
