BEGIN:VCALENDAR
VERSION:2.0
PRODID:-//destination.one//NONSGML destination.meta API//DE
X-WR-CALDESC:A calendar powered by destination.meta
X-WR-CALNAME:lueneburg Kalender via destination.meta
BEGIN:VEVENT
CATEGORIES:Bauernmarkt
CATEGORIES:Familien/Kinder sonstige
CATEGORIES:Frühjahrsmarkt
CATEGORIES:Kulinarik sonstige
CATEGORIES:Pflanzenmarkt
DESCRIPTION:🌱🌸 Gärtnerinnen und Gärtner aufgepasst: Auch in diesem Frühja
 hr finden wieder die beliebten Pflanzen-Märkte auf dem Hof an den Teichen 
 statt!\n\nmehr Informationen unter http://pages.destination.one/de/luenebu
 rg/streaming/detail/Event/e_101193874/pflanzen-markt-mit-beratung
DTEND;TZID=Europe/Berlin:20260404T180000
DTSTAMP:20260421T081318Z
DTSTART;TZID=Europe/Berlin:20260404T120000
GEO:53.213758;10.360192
LOCATION:Hof an den Teichen\, Heiligenthaler Straße 1\, Lüneburg
ORGANIZER;CN=Hof an den Teichen:mailto:info@hofandenteichen.de
RRULE:FREQ=WEEKLY;UNTIL=20260427T100000;BYDAY=SA,SU
SEQUENCE:0
SUMMARY:Pflanzen-Markt mit Beratung
UID:e_101193874_iv0
URL:http://pages.destination.one/de/lueneburg/streaming/detail/Event/e_1011
 93874/pflanzen-markt-mit-beratung
END:VEVENT
BEGIN:VTIMEZONE
TZID:Europe/Berlin
X-LIC-LOCATION:Europe/Berlin
BEGIN:DAYLIGHT
DTSTART:19700329T020000
RRULE:FREQ=YEARLY;BYDAY=-1SU;BYMONTH=3
TZNAME:CEST
TZOFFSETFROM:+0100
TZOFFSETTO:+0200
END:DAYLIGHT
BEGIN:STANDARD
DTSTART:19701025T030000
RRULE:FREQ=YEARLY;BYDAY=-1SU;BYMONTH=10
TZNAME:CET
TZOFFSETFROM:+0200
TZOFFSETTO:+0100
END:STANDARD
END:VTIMEZONE
END:VCALENDAR
