BEGIN:VCALENDAR
VERSION:2.0
PRODID:-//destination.one//NONSGML destination.meta API//DE
X-WR-CALDESC:A calendar powered by destination.meta
X-WR-CALNAME:lueneburg Kalender via destination.meta
BEGIN:VEVENT
CATEGORIES:Bauernmarkt
CATEGORIES:Familien/Kinder sonstige
CATEGORIES:Foodmarket
CATEGORIES:Genussmarkt
CATEGORIES:Kulinarik sonstige
CATEGORIES:Naturerlebnis
CATEGORIES:Tasting
DESCRIPTION:Ein Sonntag zum Genießen auf dem Hof an den Teichen\n\nmehr Inf
 ormationen unter http://pages.destination.one/de/lueneburg/streaming/detai
 l/Event/e_101199066/hof-markt-mit-verkostung
DTEND;TZID=Europe/Berlin:20260510T180000
DTSTAMP:20260421T091005Z
DTSTART;TZID=Europe/Berlin:20260510T120000
GEO:53.213758;10.360192
LOCATION:Hof an den Teichen\, Heiligenthaler Straße 1\, Lüneburg
ORGANIZER;CN=Hof an den Teichen:mailto:info@hofandenteichen.de
SEQUENCE:0
SUMMARY:Hof-Markt mit Verkostung
UID:e_101199066_iv0
URL:http://pages.destination.one/de/lueneburg/streaming/detail/Event/e_1011
 99066/hof-markt-mit-verkostung
END:VEVENT
BEGIN:VEVENT
CATEGORIES:Bauernmarkt
CATEGORIES:Familien/Kinder sonstige
CATEGORIES:Foodmarket
CATEGORIES:Genussmarkt
CATEGORIES:Kulinarik sonstige
CATEGORIES:Naturerlebnis
CATEGORIES:Tasting
DESCRIPTION:Ein Sonntag zum Genießen auf dem Hof an den Teichen\n\nmehr Inf
 ormationen unter http://pages.destination.one/de/lueneburg/streaming/detai
 l/Event/e_101199066/hof-markt-mit-verkostung
DTEND;TZID=Europe/Berlin:20260614T180000
DTSTAMP:20260421T091005Z
DTSTART;TZID=Europe/Berlin:20260614T120000
GEO:53.213758;10.360192
LOCATION:Hof an den Teichen\, Heiligenthaler Straße 1\, Lüneburg
ORGANIZER;CN=Hof an den Teichen:mailto:info@hofandenteichen.de
SEQUENCE:0
SUMMARY:Hof-Markt mit Verkostung
UID:e_101199066_iv1
URL:http://pages.destination.one/de/lueneburg/streaming/detail/Event/e_1011
 99066/hof-markt-mit-verkostung
END:VEVENT
BEGIN:VEVENT
CATEGORIES:Bauernmarkt
CATEGORIES:Familien/Kinder sonstige
CATEGORIES:Foodmarket
CATEGORIES:Genussmarkt
CATEGORIES:Kulinarik sonstige
CATEGORIES:Naturerlebnis
CATEGORIES:Tasting
DESCRIPTION:Ein Sonntag zum Genießen auf dem Hof an den Teichen\n\nmehr Inf
 ormationen unter http://pages.destination.one/de/lueneburg/streaming/detai
 l/Event/e_101199066/hof-markt-mit-verkostung
DTEND;TZID=Europe/Berlin:20260823T180000
DTSTAMP:20260421T091005Z
DTSTART;TZID=Europe/Berlin:20260823T120000
GEO:53.213758;10.360192
LOCATION:Hof an den Teichen\, Heiligenthaler Straße 1\, Lüneburg
ORGANIZER;CN=Hof an den Teichen:mailto:info@hofandenteichen.de
SEQUENCE:0
SUMMARY:Hof-Markt mit Verkostung
UID:e_101199066_iv2
URL:http://pages.destination.one/de/lueneburg/streaming/detail/Event/e_1011
 99066/hof-markt-mit-verkostung
END:VEVENT
BEGIN:VEVENT
CATEGORIES:Bauernmarkt
CATEGORIES:Familien/Kinder sonstige
CATEGORIES:Foodmarket
CATEGORIES:Genussmarkt
CATEGORIES:Kulinarik sonstige
CATEGORIES:Naturerlebnis
CATEGORIES:Tasting
DESCRIPTION:Ein Sonntag zum Genießen auf dem Hof an den Teichen\n\nmehr Inf
 ormationen unter http://pages.destination.one/de/lueneburg/streaming/detai
 l/Event/e_101199066/hof-markt-mit-verkostung
DTEND;TZID=Europe/Berlin:20260913T180000
DTSTAMP:20260421T091005Z
DTSTART;TZID=Europe/Berlin:20260913T120000
GEO:53.213758;10.360192
LOCATION:Hof an den Teichen\, Heiligenthaler Straße 1\, Lüneburg
ORGANIZER;CN=Hof an den Teichen:mailto:info@hofandenteichen.de
SEQUENCE:0
SUMMARY:Hof-Markt mit Verkostung
UID:e_101199066_iv3
URL:http://pages.destination.one/de/lueneburg/streaming/detail/Event/e_1011
 99066/hof-markt-mit-verkostung
END:VEVENT
BEGIN:VTIMEZONE
TZID:Europe/Berlin
X-LIC-LOCATION:Europe/Berlin
BEGIN:DAYLIGHT
DTSTART:19700329T020000
RRULE:FREQ=YEARLY;BYDAY=-1SU;BYMONTH=3
TZNAME:CEST
TZOFFSETFROM:+0100
TZOFFSETTO:+0200
END:DAYLIGHT
BEGIN:STANDARD
DTSTART:19701025T030000
RRULE:FREQ=YEARLY;BYDAY=-1SU;BYMONTH=10
TZNAME:CET
TZOFFSETFROM:+0200
TZOFFSETTO:+0100
END:STANDARD
END:VTIMEZONE
END:VCALENDAR
