BEGIN:VCALENDAR
VERSION:2.0
PRODID:-//destination.one//NONSGML destination.meta API//DE
X-WR-CALDESC:A calendar powered by destination.meta
X-WR-CALNAME:lueneburg Kalender via destination.meta
BEGIN:VEVENT
CATEGORIES:Bauernmarkt
CATEGORIES:Erntedank-/Erntefest
CATEGORIES:Familien/Kinder sonstige
CATEGORIES:Foodmarket
CATEGORIES:Genussmarkt
CATEGORIES:Herbstmarkt
CATEGORIES:Kulinarik sonstige
CATEGORIES:Naturerlebnis
CATEGORIES:Tasting
DESCRIPTION:🌾🎃 Lass uns gemeinsam die Früchte des Jahres feiern!\n\nmehr 
 Informationen unter http://pages.destination.one/de/lueneburg/streaming/de
 tail/Event/e_101199125/erntedank-fest-auf-dem-hof-an-den-teichen
DTEND;TZID=Europe/Berlin:20260920T180000
DTSTAMP:20260422T084020Z
DTSTART;TZID=Europe/Berlin:20260920T120000
GEO:53.213758;10.360192
LOCATION:Hof an den Teichen\, Heiligenthaler Straße 1\, Lüneburg
ORGANIZER;CN=Hof an den Teichen:mailto:info@hofandenteichen.de
SEQUENCE:0
SUMMARY:Erntedank-Fest auf dem Hof an den Teichen
UID:e_101199125_iv0
URL:http://pages.destination.one/de/lueneburg/streaming/detail/Event/e_1011
 99125/erntedank-fest-auf-dem-hof-an-den-teichen
END:VEVENT
BEGIN:VTIMEZONE
TZID:Europe/Berlin
X-LIC-LOCATION:Europe/Berlin
BEGIN:DAYLIGHT
DTSTART:19700329T020000
RRULE:FREQ=YEARLY;BYDAY=-1SU;BYMONTH=3
TZNAME:CEST
TZOFFSETFROM:+0100
TZOFFSETTO:+0200
END:DAYLIGHT
BEGIN:STANDARD
DTSTART:19701025T030000
RRULE:FREQ=YEARLY;BYDAY=-1SU;BYMONTH=10
TZNAME:CET
TZOFFSETFROM:+0200
TZOFFSETTO:+0100
END:STANDARD
END:VTIMEZONE
END:VCALENDAR
