BEGIN:VCALENDAR
VERSION:2.0
PRODID:-//destination.one//NONSGML destination.meta API//DE
X-WR-CALDESC:A calendar powered by destination.meta
X-WR-CALNAME:lueneburg Kalender via destination.meta
BEGIN:VEVENT
CATEGORIES:Festival
CATEGORIES:Konzert
CATEGORIES:Musik sonstige
DESCRIPTION:Gregory PorterDer Weltstar live auf dem Lüneburger Kultursommer
 \nGregory Porter ist eine der unverzichtbaren Größen des zeitgenössischen 
 Jazz. Seine umwerfende Stimme\, die genauso im Soul\, Blues und Gospel zuh
 ause ist\, macht jeden Song\, egal ob Eigen- oder Fremdkomposition\, umgeh
 end zu einem Porter Song. Auch als Songwriter gelingt es ihm mühelos\, all
  diese Genres zu seinem eigenen\, unverkennbaren ›Gregory Porter Sound‹ zu
 sammenzuführen. Seine tiefgründigen Texte sind bewusst universell und schl
 ießen niemanden aus - und sprechen damit nahezu allen aus der Seele.\n\nme
 hr Informationen unter http://pages.destination.one/de/lueneburg/streaming
 /detail/Event/e_101199924/gregory-porter-l-neburger-kultursommer
DTEND;TZID=Europe/Berlin:20260730T210000
DTSTAMP:20260421T091042Z
DTSTART;TZID=Europe/Berlin:20260730T170000
GEO:53.246452;10.396253
LOCATION:Sülzwiesen Festivalgelände KUSO\, Schnellenberger Weg / Am Grasweg
 \, Lüneburg
ORGANIZER;CN=Campus Management GmbH:mailto:info@campuslueneburg.de
SEQUENCE:0
SUMMARY:Gregory Porter – Lüneburger Kultursommer
UID:e_101199924_iv0
URL:http://pages.destination.one/de/lueneburg/streaming/detail/Event/e_1011
 99924/gregory-porter-l-neburger-kultursommer
END:VEVENT
BEGIN:VTIMEZONE
TZID:Europe/Berlin
X-LIC-LOCATION:Europe/Berlin
BEGIN:DAYLIGHT
DTSTART:19700329T020000
RRULE:FREQ=YEARLY;BYDAY=-1SU;BYMONTH=3
TZNAME:CEST
TZOFFSETFROM:+0100
TZOFFSETTO:+0200
END:DAYLIGHT
BEGIN:STANDARD
DTSTART:19701025T030000
RRULE:FREQ=YEARLY;BYDAY=-1SU;BYMONTH=10
TZNAME:CET
TZOFFSETFROM:+0200
TZOFFSETTO:+0100
END:STANDARD
END:VTIMEZONE
END:VCALENDAR
