BEGIN:VCALENDAR
VERSION:2.0
PRODID:-//destination.one//NONSGML destination.meta API//DE
X-WR-CALDESC:A calendar powered by destination.meta
X-WR-CALNAME:lueneburg Kalender via destination.meta
BEGIN:VEVENT
CATEGORIES:Bauernmarkt
CATEGORIES:Familien/Kinder sonstige
CATEGORIES:Foodmarket
CATEGORIES:Herbstmarkt
CATEGORIES:Naturerlebnis
CATEGORIES:Tasting
DESCRIPTION:Herbstzeit ist Apfelzeit! \nSeit über 10 Jahren setzt sich der 
 Lüneburger Streuobstwiesen e.V. für den Erhalt alter Obstsorten und deren 
 Verbreitung ein. Zum Höhepunkt eines jeden Jahres steht ein großes Apfelfe
 st an.\n\nmehr Informationen unter http://pages.destination.one/de/luenebu
 rg/streaming/detail/Event/e_101200103/apfel-fest-l-neburger-streuobstwiese
 n-e-v
DTEND;TZID=Europe/Berlin:20261004T170000
DTSTAMP:20260423T083050Z
DTSTART;TZID=Europe/Berlin:20261004T110000
GEO:53.213758;10.360192
LOCATION:Hof an den Teichen\, Heiligenthaler Straße 1\, Lüneburg
ORGANIZER;CN=Hof an den Teichen:mailto:info@hofandenteichen.de
SEQUENCE:0
SUMMARY:Apfel-Fest Lüneburger Streuobstwiesen e.V.
UID:e_101200103_iv0
URL:http://pages.destination.one/de/lueneburg/streaming/detail/Event/e_1012
 00103/apfel-fest-l-neburger-streuobstwiesen-e-v
END:VEVENT
BEGIN:VTIMEZONE
TZID:Europe/Berlin
X-LIC-LOCATION:Europe/Berlin
BEGIN:DAYLIGHT
DTSTART:19700329T020000
RRULE:FREQ=YEARLY;BYDAY=-1SU;BYMONTH=3
TZNAME:CEST
TZOFFSETFROM:+0100
TZOFFSETTO:+0200
END:DAYLIGHT
BEGIN:STANDARD
DTSTART:19701025T030000
RRULE:FREQ=YEARLY;BYDAY=-1SU;BYMONTH=10
TZNAME:CET
TZOFFSETFROM:+0200
TZOFFSETTO:+0100
END:STANDARD
END:VTIMEZONE
END:VCALENDAR
