BEGIN:VCALENDAR
VERSION:2.0
PRODID:-//destination.one//NONSGML destination.meta API//DE
X-WR-CALDESC:A calendar powered by destination.meta
X-WR-CALNAME:lueneburg Kalender via destination.meta
BEGIN:VEVENT
CATEGORIES:Lesung
DESCRIPTION:\n\nmehr Informationen unter http://pages.destination.one/de/lu
 eneburg/streaming/detail/Event/e_101200617/wladimir-kaminer-neues-programm
DTEND;TZID=Europe/Berlin:20261205T220000
DTSTAMP:20260421T081215Z
DTSTART;TZID=Europe/Berlin:20261205T193000
GEO:53.261625;10.373238
LOCATION:Kulturforum Lüneburg\, Gut Wienebüttel 1\, Lüneburg
ORGANIZER;CN=MITUNSKANNMAN.REDEN. GmbH & Co. KG:mailto:marketing@mitunskann
 manreden.de
SEQUENCE:0
SUMMARY:Wladimir Kaminer - Neues Programm
UID:e_101200617_iv0
URL:http://pages.destination.one/de/lueneburg/streaming/detail/Event/e_1012
 00617/wladimir-kaminer-neues-programm
END:VEVENT
BEGIN:VTIMEZONE
TZID:Europe/Berlin
X-LIC-LOCATION:Europe/Berlin
BEGIN:DAYLIGHT
DTSTART:19700329T020000
RRULE:FREQ=YEARLY;BYDAY=-1SU;BYMONTH=3
TZNAME:CEST
TZOFFSETFROM:+0100
TZOFFSETTO:+0200
END:DAYLIGHT
BEGIN:STANDARD
DTSTART:19701025T030000
RRULE:FREQ=YEARLY;BYDAY=-1SU;BYMONTH=10
TZNAME:CET
TZOFFSETFROM:+0200
TZOFFSETTO:+0100
END:STANDARD
END:VTIMEZONE
END:VCALENDAR
