BEGIN:VCALENDAR
VERSION:2.0
PRODID:-//destination.one//NONSGML destination.meta API//DE
X-WR-CALDESC:A calendar powered by destination.meta
X-WR-CALNAME:lueneburg Kalender via destination.meta
BEGIN:VEVENT
CATEGORIES:Musik sonstige
CATEGORIES:Konzert
CATEGORIES:Open Air sonstige
DESCRIPTION:Eine Veranstaltung der Reihe Fury in the Slaughterhouse - Fury 
 Live Twenty Six\nWährend Fury In The Slaughterhouse mit ihrer Open Air-Tou
 rnee FURY LIVE TWENTY FIVE durch den Sommer gerockt sind\, wurde hinter de
 n Kulissen munter weitergeplant für: FURY LIVE TWENTY SIX! Weil es in dies
 em Sommer so unfassbar schön war und viele der Konzerte bereits Wochen vor
 her restlos ausverkauft waren\, haben die Bandmitglieder einer der erfolgr
 eichsten Rock-Bands aus Deutschland entschieden\, einfach direkt neue Live
 -Termine für die kommende Open Air - Saison anzusetzen. Damit lassen sie j
 edes Fanherz Freudensprüngen machen. Kai Wingenfelder sagt dazu „Wir sind 
 zu alt\, um jetzt aufzuhören. Wie sollten wir ohne die Feiern\, das Singen
  und das Tanzen mit den Fans klarkommen?“.\n\nFury In The Slaughterhouse b
 egeistern seit den frühen 1990er Jahren Fans im In- und Ausland mit ihrer 
 kraftvollen Musik und mitreißenden Live-Auftritten. Gegründet in Hannover\
 , hat sich die Band schnell einen festen Platz in der deutschen Rockszene 
 erobert und ist bekannt für eingängige Melodien\, tiefgründige Texte und e
 nergiegeladene Shows. Nach fast 40 Jahren Bandgeschichte krönte die Ausnah
 meband 2023 ihren durchgehenden Erfolg mit dem ersten #1 Album ihrer Karri
 ere: HOPE!\n\nMit ihren All-Time-Favorits wie „Every Generation Got It‘s O
 wn Desease“\, „Radio Orchid“\, „Time To Wonder“ und neuen Hits wie „Sorrow
 land“ und „Everyday Heroes“ hat Fury In The Slaughterhouse zahlreiche Char
 tplatzierungen erreicht und den Soundtrack einer ganzen Generation geschri
 eben. Die Band zeichnet sich durch ihre Vielseitigkeit aus\, die von harte
 m Rock bis zu gefühlvollen Balladen\, von Krawall bis Kitsch\, von Wacken 
 bis zu den Bravo Hits reicht.\n\nFury In The Slaughterhouse bleiben eine b
 edeutende Kraft in der deutschen Musiklandschaft. Mit ihrer Leidenschaft f
 ür Musik und ihrer Hingabe an die Fans setzen sie weiterhin Maßstäbe und b
 egeistern ungebrochen.\n\nmehr Informationen unter http://pages.destinatio
 n.one/de/lueneburg/streaming/detail/Event/e_101201434/fury-in-the-slaugthe
 rhouse-l-neburger-kultursommer
DTEND;TZID=Europe/Berlin:20260731T235900
DTSTAMP:20260424T083929Z
DTSTART;TZID=Europe/Berlin:20260731T190000
GEO:53.245560;10.395410
LOCATION:Festplatz Sülzwiesen\, Sülzwiesen\, Lüneburg
SEQUENCE:0
SUMMARY:Fury in the Slaugtherhouse – Lüneburger Kultursommer
UID:e_101201434_iv0
URL:http://pages.destination.one/de/lueneburg/streaming/detail/Event/e_1012
 01434/fury-in-the-slaugtherhouse-l-neburger-kultursommer
END:VEVENT
BEGIN:VTIMEZONE
TZID:Europe/Berlin
X-LIC-LOCATION:Europe/Berlin
BEGIN:DAYLIGHT
DTSTART:19700329T020000
RRULE:FREQ=YEARLY;BYDAY=-1SU;BYMONTH=3
TZNAME:CEST
TZOFFSETFROM:+0100
TZOFFSETTO:+0200
END:DAYLIGHT
BEGIN:STANDARD
DTSTART:19701025T030000
RRULE:FREQ=YEARLY;BYDAY=-1SU;BYMONTH=10
TZNAME:CET
TZOFFSETFROM:+0200
TZOFFSETTO:+0100
END:STANDARD
END:VTIMEZONE
END:VCALENDAR
