BEGIN:VCALENDAR
VERSION:2.0
PRODID:-//destination.one//NONSGML destination.meta API//DE
X-WR-CALDESC:A calendar powered by destination.meta
X-WR-CALNAME:lueneburg Kalender via destination.meta
BEGIN:VEVENT
CATEGORIES:Konzert
CATEGORIES:Musik sonstige
CATEGORIES:Open Air sonstige
DESCRIPTION:ClockClockLive auf dem Lüneburger Kultursommer 2026\nEmotionale
  Ehrlichkeit trifft auf mitreißende Beats: Aus dieser Formel schmieden CLO
 CKCLOCK auch 2026 ihren Erfolg! Nachdem Boki 2025 beim TV-Format „Sing mei
 nen Song“ teilnahm\, das insgesamt 10 Mio Zuschauer:innen erreichte\, war 
 klar\, dass das Trio aus Mannheim zu den Großen der deutschen Pop-Riege zä
 hlt. Bokis Stimme gewann alle Herzen im Sturm und sorgte für weiteren Zula
 uf für den ohnehin beachtlichen CLOCKCLOCK-Fanclub. Schon die ersten beide
 n Headliner-Touren der Band\, die drei Jahre nach ihrer Gründung mit „Sorr
 y“ 2021 ihre erste No. 1 der Deutschen Airplay-Charts landeten\, waren res
 tlos ausverkauft. Die Hits des Trios– „Adore Ya“\, „Someone Else“\, „Over“
 \, „Sorry“ – hielten sich wochenlang in Spitzenpositionen\, und CLOCKCLOCK
  dürfen auf viermal #1 stolz sein.\n\nMit dem Debütalbum „Dreamers“\, das 
 2024 erschien\, schufen CLOCKCLOCK eine Hommage an alle\, die trotz Hürden
  mutig ihren Weg gehen. Die Veröffentlichung wurde mit zwei ausverkauften 
 Release-Shows in Mannheim und Hamburg gefeiert. Mit der „Dream Forever“ - 
 Tour im Februar 2026 kündigten sich CLOCKCLOCK anschließend mit sechzehn S
 hows in Deutschland und Österreich an. Sold Out-Jubeln darf das Trio berei
 ts: München\, Hamburg\, Köln und Berlin sind schon ausverkauft\, Stuttgart
  und Hannover stehen kurz davor. Glasklar: CLOCKCLOCKs Weg führt auch 2026
  weiter nach oben – die Chartstürmer sind Hitgaranten und ein mitreißender
  Live-Act von internationalem Format.\n\nmehr Informationen unter http://p
 ages.destination.one/de/lueneburg/streaming/detail/Event/e_101201475/clock
 clock-l-neburger-kultursommer
DTEND;TZID=Europe/Berlin:20260801T220000
DTSTAMP:20260421T075837Z
DTSTART;TZID=Europe/Berlin:20260801T170000
GEO:53.246436;10.395706
LOCATION:Kultursommer Festivalgelände Sülzwiesen\, Schnellenberger Weg 109\
 , Lüneburg
ORGANIZER;CN=Sülzwiesen Festivalgelände KUSO:mailto:info@lueneburger-kultur
 sommer.de
SEQUENCE:0
SUMMARY:ClockClock – Lüneburger Kultursommer
UID:e_101201475_iv0
URL:http://pages.destination.one/de/lueneburg/streaming/detail/Event/e_1012
 01475/clockclock-l-neburger-kultursommer
END:VEVENT
BEGIN:VTIMEZONE
TZID:Europe/Berlin
X-LIC-LOCATION:Europe/Berlin
BEGIN:DAYLIGHT
DTSTART:19700329T020000
RRULE:FREQ=YEARLY;BYDAY=-1SU;BYMONTH=3
TZNAME:CEST
TZOFFSETFROM:+0100
TZOFFSETTO:+0200
END:DAYLIGHT
BEGIN:STANDARD
DTSTART:19701025T030000
RRULE:FREQ=YEARLY;BYDAY=-1SU;BYMONTH=10
TZNAME:CET
TZOFFSETFROM:+0200
TZOFFSETTO:+0100
END:STANDARD
END:VTIMEZONE
END:VCALENDAR
