BEGIN:VCALENDAR
VERSION:2.0
PRODID:-//destination.one//NONSGML destination.meta API//DE
X-WR-CALDESC:A calendar powered by destination.meta
X-WR-CALNAME:lueneburg Kalender via destination.meta
BEGIN:VEVENT
CATEGORIES:Festival
CATEGORIES:Konzert
CATEGORIES:Musik sonstige
CATEGORIES:Open Air sonstige
DESCRIPTION:RONAN KEATINGLive auf dem Lüneburger Kultursommer\nRonan Keatin
 g zählt seit über 30 Jahren zu den prägenden Stimmen der Popmusik. Mit Boy
 zone erreichte er in den 1990ern zahlreiche Top-5-Singles und mehrere Numm
 er-1-Hits\, bevor er ab 1999 seine Solokarriere startete. Sein Debüthit Wh
 en You Say Nothing At All sowie Songs wie Life Is A Rollercoaster oder If 
 Tomorrow Never Comes wurden internationale Erfolge und machten ihn zu eine
 m festen Bestandteil der Poplandschaft.\n\nSeine Alben Ronan\, Destination
  und 10 Years of Hits erreichten jeweils Platz 1 der britischen Charts und
  verkauften sich millionenfach. Weltweite Tourneen führten ihn durch Europ
 a\, Australien\, Neuseeland\, Südafrika\, den Golf\, Indien und Südostasie
 n. Mit Projekten wie Songs for My Mother\, Winter Songs oder When Ronan Me
 t Burt zeigte er seine Bandbreite\, von persönlichen Hommagen bis hin zu o
 rchestralen Klassikern. Aktuelle Werke wie Twenty Twenty und Songs From Ho
 me knüpfen an seine irischen Wurzeln an und markieren über zwei Jahrzehnte
  Solokarriere.\n\nRonan Keating bringt 2026 nun eine neue Live-Show auf di
 e Bühne\, in der er Songs aus drei Jahrzehnten präsentiert – vom Boyzone-R
 epertoire über internationale Solo-Hits bis zu Stücken seiner aktuellen Al
 ben.\n\nmehr Informationen unter http://pages.destination.one/de/lueneburg
 /streaming/detail/Event/e_101201757/ronan-keating-l-neburger-kultursommer
DTEND;TZID=Europe/Berlin:20260807T220000
DTSTAMP:20260421T081405Z
DTSTART;TZID=Europe/Berlin:20260807T170000
GEO:53.246452;10.396253
LOCATION:Sülzwiesen Festivalgelände KUSO\, Schnellenberger Weg / Am Grasweg
 \, Lüneburg
ORGANIZER;CN=Campus Management GmbH:mailto:info@campuslueneburg.de
SEQUENCE:0
SUMMARY:Ronan Keating – Lüneburger Kultursommer
UID:e_101201757_iv0
URL:http://pages.destination.one/de/lueneburg/streaming/detail/Event/e_1012
 01757/ronan-keating-l-neburger-kultursommer
END:VEVENT
BEGIN:VTIMEZONE
TZID:Europe/Berlin
X-LIC-LOCATION:Europe/Berlin
BEGIN:DAYLIGHT
DTSTART:19700329T020000
RRULE:FREQ=YEARLY;BYDAY=-1SU;BYMONTH=3
TZNAME:CEST
TZOFFSETFROM:+0100
TZOFFSETTO:+0200
END:DAYLIGHT
BEGIN:STANDARD
DTSTART:19701025T030000
RRULE:FREQ=YEARLY;BYDAY=-1SU;BYMONTH=10
TZNAME:CET
TZOFFSETFROM:+0200
TZOFFSETTO:+0100
END:STANDARD
END:VTIMEZONE
END:VCALENDAR
