BEGIN:VCALENDAR
VERSION:2.0
PRODID:-//destination.one//NONSGML destination.meta API//DE
X-WR-CALDESC:A calendar powered by destination.meta
X-WR-CALNAME:lueneburg Kalender via destination.meta
BEGIN:VEVENT
CATEGORIES:Konzert
DESCRIPTION:Sechsstimmig in den Frühling\nFrühling\, Spaß und ein bisschen 
 Drama – der New Voices Popchor aus Lüneburg bringt die Open-Air-Bühne zum 
 Beben. Die rund 60 Sängerinnen und Sänger präsentieren u. a. eigens von Ch
 orleiter Jens Pape arrangierte Stücke wie „Schwere Zeiten“ sowie abseits v
 on Pop und Rock abwechslungsreiche Genre-Brüche wie ein mittelalterliches 
 Liebeslied.\n\nmehr Informationen unter http://pages.destination.one/de/lu
 eneburg/streaming/detail/Event/e_101204979/schr-ders-garten-new-voices-pop
 chor
DTEND;TZID=Europe/Berlin:20260425T220000
DTSTAMP:20260422T085241Z
DTSTART;TZID=Europe/Berlin:20260425T193000
GEO:53.244960;10.414910
LOCATION:Schröders Garten\, Vor dem Roten Tore 72b\, Lüneburg
ORGANIZER;CN=heiter & wolkig GmbH:mailto:johanna@heiterundwolkig.de
SEQUENCE:0
SUMMARY:Schröders Garten: New Voices Popchor
UID:e_101204979_iv0
URL:http://pages.destination.one/de/lueneburg/streaming/detail/Event/e_1012
 04979/schr-ders-garten-new-voices-popchor
END:VEVENT
BEGIN:VTIMEZONE
TZID:Europe/Berlin
X-LIC-LOCATION:Europe/Berlin
BEGIN:DAYLIGHT
DTSTART:19700329T020000
RRULE:FREQ=YEARLY;BYDAY=-1SU;BYMONTH=3
TZNAME:CEST
TZOFFSETFROM:+0100
TZOFFSETTO:+0200
END:DAYLIGHT
BEGIN:STANDARD
DTSTART:19701025T030000
RRULE:FREQ=YEARLY;BYDAY=-1SU;BYMONTH=10
TZNAME:CET
TZOFFSETFROM:+0200
TZOFFSETTO:+0100
END:STANDARD
END:VTIMEZONE
END:VCALENDAR
