BEGIN:VCALENDAR
VERSION:2.0
PRODID:-//destination.one//NONSGML destination.meta API//DE
X-WR-CALDESC:A calendar powered by destination.meta
X-WR-CALNAME:lueneburg Kalender via destination.meta
BEGIN:VEVENT
CATEGORIES:Comedy
DESCRIPTION:Stand Up Comedy boomt und wir feiern das. Eine furchtlose Bande
  junger Comedians erobert Livebühnen & Internet – und wir haben die Brisan
 testen für euch eingeladen zum KdK Stand Up. Genießt virtuose Humorkünstle
 r*innen auf großer Bühne\, bevor sie vielleicht bald nur noch ganz große B
 ühnen spielen.\n\nmehr Informationen unter http://pages.destination.one/de
 /lueneburg/streaming/detail/Event/e_101204988/schr-ders-garten-kdk-stand-u
 p
DTEND;TZID=Europe/Berlin:20260507T220000
DTSTAMP:20260421T081350Z
DTSTART;TZID=Europe/Berlin:20260507T193000
GEO:53.244960;10.414910
LOCATION:Schröders Garten\, Vor dem Roten Tore 72b\, Lüneburg
ORGANIZER;CN=heiter & wolkig GmbH:mailto:johanna@heiterundwolkig.de
SEQUENCE:0
SUMMARY:Schröders Garten: KDK Stand Up
UID:e_101204988_iv0
URL:http://pages.destination.one/de/lueneburg/streaming/detail/Event/e_1012
 04988/schr-ders-garten-kdk-stand-up
END:VEVENT
BEGIN:VTIMEZONE
TZID:Europe/Berlin
X-LIC-LOCATION:Europe/Berlin
BEGIN:DAYLIGHT
DTSTART:19700329T020000
RRULE:FREQ=YEARLY;BYDAY=-1SU;BYMONTH=3
TZNAME:CEST
TZOFFSETFROM:+0100
TZOFFSETTO:+0200
END:DAYLIGHT
BEGIN:STANDARD
DTSTART:19701025T030000
RRULE:FREQ=YEARLY;BYDAY=-1SU;BYMONTH=10
TZNAME:CET
TZOFFSETFROM:+0200
TZOFFSETTO:+0100
END:STANDARD
END:VTIMEZONE
END:VCALENDAR
