BEGIN:VCALENDAR
VERSION:2.0
PRODID:-//destination.one//NONSGML destination.meta API//DE
X-WR-CALDESC:A calendar powered by destination.meta
X-WR-CALNAME:lueneburg Kalender via destination.meta
BEGIN:VEVENT
CATEGORIES:Lesung
DESCRIPTION:\n\nmehr Informationen unter http://pages.destination.one/de/lu
 eneburg/streaming/detail/Event/e_101204997/schr-ders-garten-heinz-strunk-k
 ein-geld-kein-gl-ck-kein-sprit
DTEND;TZID=Europe/Berlin:20260508T220000
DTSTAMP:20260421T091556Z
DTSTART;TZID=Europe/Berlin:20260508T193000
GEO:53.244960;10.414910
LOCATION:Schröders Garten\, Vor dem Roten Tore 72b\, Lüneburg
ORGANIZER;CN=heiter & wolkig GmbH:mailto:johanna@heiterundwolkig.de
SEQUENCE:0
SUMMARY:Schröders Garten: Heinz Strunk - Kein Geld Kein Glück Kein Sprit
UID:e_101204997_iv0
URL:http://pages.destination.one/de/lueneburg/streaming/detail/Event/e_1012
 04997/schr-ders-garten-heinz-strunk-kein-geld-kein-gl-ck-kein-sprit
END:VEVENT
BEGIN:VTIMEZONE
TZID:Europe/Berlin
X-LIC-LOCATION:Europe/Berlin
BEGIN:DAYLIGHT
DTSTART:19700329T020000
RRULE:FREQ=YEARLY;BYDAY=-1SU;BYMONTH=3
TZNAME:CEST
TZOFFSETFROM:+0100
TZOFFSETTO:+0200
END:DAYLIGHT
BEGIN:STANDARD
DTSTART:19701025T030000
RRULE:FREQ=YEARLY;BYDAY=-1SU;BYMONTH=10
TZNAME:CET
TZOFFSETFROM:+0200
TZOFFSETTO:+0100
END:STANDARD
END:VTIMEZONE
END:VCALENDAR
