BEGIN:VCALENDAR
VERSION:2.0
PRODID:-//destination.one//NONSGML destination.meta API//DE
X-WR-CALDESC:A calendar powered by destination.meta
X-WR-CALNAME:lueneburg Kalender via destination.meta
BEGIN:VEVENT
CATEGORIES:Konzert
DESCRIPTION:Dota ist wieder da\, mit neuen Songs\, ein neues Kapitel\, das 
 sich perfekt in die Reihe ihrer bisherigen Alben einreiht\, aber eben doch
  neu\, als wäre eine bisher unbekannte Zutat im Songlabor aufgetaucht. Sch
 ön ist: Es könnte genauso die erste DOTA-Platte ever sein. Man vermisst ni
 chts\, was man an Dota mag\, aber die Musik ist noch minimalistischer\, hü
 pfiger – die Erwachsenen würden sagen: kontrastreicher. Die Texte gehen no
 ch direkter ins Herz der Finsternis\, sind noch hingebungsvoller suchend\,
  auch im Unklaren noch klarer. Vielleicht ist es auch ein Produkt ihrer Be
 schäftigung mit der Lyrik Mascha Kalékos\, deren musikalischer Umsetzung s
 ie in den letzten drei Jahren zwei Alben gewidmet hat.\n\nmehr Information
 en unter http://pages.destination.one/de/lueneburg/streaming/detail/Event/
 e_101205016/schr-ders-garten-dota-springbrunnen-tour-2026
DTEND;TZID=Europe/Berlin:20260509T220000
DTSTAMP:20260421T091225Z
DTSTART;TZID=Europe/Berlin:20260509T193000
GEO:53.244960;10.414910
LOCATION:Schröders Garten\, Vor dem Roten Tore 72b\, Lüneburg
ORGANIZER;CN=heiter & wolkig GmbH:mailto:johanna@heiterundwolkig.de
SEQUENCE:0
SUMMARY:Schröders Garten: Dota - Springbrunnen Tour 2026
UID:e_101205016_iv0
URL:http://pages.destination.one/de/lueneburg/streaming/detail/Event/e_1012
 05016/schr-ders-garten-dota-springbrunnen-tour-2026
END:VEVENT
BEGIN:VTIMEZONE
TZID:Europe/Berlin
X-LIC-LOCATION:Europe/Berlin
BEGIN:DAYLIGHT
DTSTART:19700329T020000
RRULE:FREQ=YEARLY;BYDAY=-1SU;BYMONTH=3
TZNAME:CEST
TZOFFSETFROM:+0100
TZOFFSETTO:+0200
END:DAYLIGHT
BEGIN:STANDARD
DTSTART:19701025T030000
RRULE:FREQ=YEARLY;BYDAY=-1SU;BYMONTH=10
TZNAME:CET
TZOFFSETFROM:+0200
TZOFFSETTO:+0100
END:STANDARD
END:VTIMEZONE
END:VCALENDAR
