BEGIN:VCALENDAR
VERSION:2.0
PRODID:-//destination.one//NONSGML destination.meta API//DE
X-WR-CALDESC:A calendar powered by destination.meta
X-WR-CALNAME:lueneburg Kalender via destination.meta
BEGIN:VEVENT
CATEGORIES:Konzert
CATEGORIES:Open Air sonstige
DESCRIPTION:Carsten ‚Erobique’ Meyer ist sein ihm eigenes Genre. Nachdem in
  den vergangenen 30 Jahren jeder Bus mit dem jeweils neuesten Disco-Reviva
 l an ihm vorbei und auch wieder zurückgefahren ist\, kann man es nicht and
 ers ausdrücken. Wenn es in den Metropolen heißt: „Erobique ist in der Stad
 t”\, freuen sich etliche tanzwütige Menschen zwischen 18 und 80 auf versch
 witzte fast sakrale Stunden voller improvisierter Disco-Licks und haarsträ
 ubende Gesangseinlagen.\n\nmehr Informationen unter http://pages.destinati
 on.one/de/lueneburg/streaming/detail/Event/e_101205019/schr-ders-garten-er
 obiques-gro-e-gartenparty
DTEND;TZID=Europe/Berlin:20260528T220000
DTSTAMP:20260421T092138Z
DTSTART;TZID=Europe/Berlin:20260528T190000
GEO:53.244960;10.414910
LOCATION:Schröders Garten\, Vor dem Roten Tore 72b\, Lüneburg
ORGANIZER;CN=heiter & wolkig GmbH:mailto:johanna@heiterundwolkig.de
SEQUENCE:0
SUMMARY:Schröders Garten: Erobiques Große Gartenparty
UID:e_101205019_iv0
URL:http://pages.destination.one/de/lueneburg/streaming/detail/Event/e_1012
 05019/schr-ders-garten-erobiques-gro-e-gartenparty
END:VEVENT
BEGIN:VTIMEZONE
TZID:Europe/Berlin
X-LIC-LOCATION:Europe/Berlin
BEGIN:DAYLIGHT
DTSTART:19700329T020000
RRULE:FREQ=YEARLY;BYDAY=-1SU;BYMONTH=3
TZNAME:CEST
TZOFFSETFROM:+0100
TZOFFSETTO:+0200
END:DAYLIGHT
BEGIN:STANDARD
DTSTART:19701025T030000
RRULE:FREQ=YEARLY;BYDAY=-1SU;BYMONTH=10
TZNAME:CET
TZOFFSETFROM:+0200
TZOFFSETTO:+0100
END:STANDARD
END:VTIMEZONE
END:VCALENDAR
